{
 "currentVersion": 10.91,
 "serviceDescription": "An orthoimage is remotely sensed image data in which displacement of features in the image caused by terrain relief and sensor orientation have been mathematically removed. Orthoimagery combines the image characteristics of a photograph with the geometric qualities of a map. \n\nThis task consists of two components, digital image acquisition and digital orthophoto production, covering the Southwest Florida Water Management District in Florida.  The Southwest Florida Water Management District (SWFWMD) project area is comprised of approximately 10,589 square miles.  \n\nAerial imagery was collected in panchromatic, Red, Green, Blue and Near Infrared which yielded a natural color and false color infrared version of the completed digital orthophotography. Imagery was collected at an approximate altitude of 23,600 feet above mean terrain. \n\nThe ADS40 digital camera system used in this project incorporates the latest in sensor technology, optics, electronics, data transfer, and storage. The ADS40 imagery is generated from seven parallel sensor lines in the focal plane of a single lens system, three panchromatic (forward, nadir, backward), red, green, and blue lines placed next to each other, and one infrared.  Each panchromatic channel consists of two lines, each with 12,000 pixels, staggered (shifted with respect to each other) by 0.5 pixels. The viewing angles and characteristics of the sensor are as follows -\n\n     Focal length 62.5mm \n     Pixel size 6.5mm \n     PAN 2 arrays 12,000 pixels each\n     R,G,B and NIR,R,G 12,000 pixels \n     Forward to nadir stereo angle 28.3 degrees\n     Backward to nadir stereo angle -14.1 degrees\n     Near infrared to nadir stereo angle -2.05 degrees \n     Dynamic Range of CCD  -  12-bits for all arrays\n\nAll ADS40 camera systems used for this project were equipped with the narrow angle infrared configuration that facilitates production of a natural color and false color infrared composite.\n\nFor this dataset, the natural color and color infrared orthoimages were produced at 1.0-meter pixel resolution. The accuracy has been designed to meet NMAS for 1:12,000 maps.  Each digital orthorectified quarter quad provides imagery for a nominal 3.75 by 3.75 minute area corresponding to the USGS quarter quad boundaries. The projected coordinate system is UTM with a NAD83 datum. The naming convention is based on the state of Florida DOQQ naming convention.\n\nDeliverables include -\n24-Bit (8-bit) Natural Color in GeoTIFF format\n24-Bit (8-bit) False Color Infrared in GeoTIFF format\n48-Bit (16-bit) Natural Color in GeoTIFF format\n48-Bit (16-bit) False Color Infrared in GeoTIFF format",
 "name": "Aerials/Aerials2004",
 "description": "An orthoimage is remotely sensed image data in which displacement of features in the image caused by terrain relief and sensor orientation have been mathematically removed. Orthoimagery combines the image characteristics of a photograph with the geometric qualities of a map. \n\nThis task consists of two components, digital image acquisition and digital orthophoto production, covering the Southwest Florida Water Management District in Florida.  The Southwest Florida Water Management District (SWFWMD) project area is comprised of approximately 10,589 square miles.  \n\nAerial imagery was collected in panchromatic, Red, Green, Blue and Near Infrared which yielded a natural color and false color infrared version of the completed digital orthophotography. Imagery was collected at an approximate altitude of 23,600 feet above mean terrain. \n\nThe ADS40 digital camera system used in this project incorporates the latest in sensor technology, optics, electronics, data transfer, and storage. The ADS40 imagery is generated from seven parallel sensor lines in the focal plane of a single lens system, three panchromatic (forward, nadir, backward), red, green, and blue lines placed next to each other, and one infrared.  Each panchromatic channel consists of two lines, each with 12,000 pixels, staggered (shifted with respect to each other) by 0.5 pixels. The viewing angles and characteristics of the sensor are as follows -\n\n     Focal length 62.5mm \n     Pixel size 6.5mm \n     PAN 2 arrays 12,000 pixels each\n     R,G,B and NIR,R,G 12,000 pixels \n     Forward to nadir stereo angle 28.3 degrees\n     Backward to nadir stereo angle -14.1 degrees\n     Near infrared to nadir stereo angle -2.05 degrees \n     Dynamic Range of CCD  -  12-bits for all arrays\n\nAll ADS40 camera systems used for this project were equipped with the narrow angle infrared configuration that facilitates production of a natural color and false color infrared composite.\n\nFor this dataset, the natural color and color infrared orthoimages were produced at 1.0-meter pixel resolution. The accuracy has been designed to meet NMAS for 1:12,000 maps.  Each digital orthorectified quarter quad provides imagery for a nominal 3.75 by 3.75 minute area corresponding to the USGS quarter quad boundaries. The projected coordinate system is UTM with a NAD83 datum. The naming convention is based on the state of Florida DOQQ naming convention.\n\nDeliverables include -\n24-Bit (8-bit) Natural Color in GeoTIFF format\n24-Bit (8-bit) False Color Infrared in GeoTIFF format\n48-Bit (16-bit) Natural Color in GeoTIFF format\n48-Bit (16-bit) False Color Infrared in GeoTIFF format",
 "extent": {
  "xmin": -9226177.371760022,
  "ymin": 3193579.090080495,
  "xmax": -9183384.328408537,
  "ymax": 3280884.4056003257,
  "spatialReference": {
   "wkid": 102100,
   "latestWkid": 3857
  }
 },
 "initialExtent": {
  "xmin": -9226177.371760022,
  "ymin": 3193579.090080495,
  "xmax": -9183384.328408537,
  "ymax": 3280884.4056003257,
  "spatialReference": {
   "wkid": 102100,
   "latestWkid": 3857
  }
 },
 "fullExtent": {
  "xmin": -9226177.371760022,
  "ymin": 3193579.090080495,
  "xmax": -9183384.328408537,
  "ymax": 3280884.4056003257,
  "spatialReference": {
   "wkid": 102100,
   "latestWkid": 3857
  }
 },
 "pixelSizeX": 0.9999999898399801,
 "pixelSizeY": 0.9999999898399802,
 "bandCount": 3,
 "pixelType": "U8",
 "minPixelSize": 0.2985821416476167,
 "maxPixelSize": 156543.03392800014,
 "copyrightText": "",
 "serviceDataType": "esriImageServiceDataTypeRGB",
 "minValues": [
  0,
  0,
  0
 ],
 "maxValues": [
  255,
  255,
  255
 ],
 "meanValues": [
  95.77670466476181,
  105.2411832802518,
  98.77526338297749
 ],
 "stdvValues": [
  42.164614376407364,
  36.00084881186436,
  31.94092580648125
 ],
 "objectIdField": "OBJECTID",
 "fields": [
  {
   "name": "OBJECTID",
   "type": "esriFieldTypeOID",
   "alias": "OBJECTID",
   "domain": null
  },
  {
   "name": "Shape",
   "type": "esriFieldTypeGeometry",
   "alias": "Shape",
   "domain": null
  },
  {
   "name": "Name",
   "type": "esriFieldTypeString",
   "alias": "Name",
   "domain": null,
   "length": 50
  },
  {
   "name": "MinPS",
   "type": "esriFieldTypeDouble",
   "alias": "MinPS",
   "domain": null
  },
  {
   "name": "MaxPS",
   "type": "esriFieldTypeDouble",
   "alias": "MaxPS",
   "domain": null
  },
  {
   "name": "LowPS",
   "type": "esriFieldTypeDouble",
   "alias": "LowPS",
   "domain": null
  },
  {
   "name": "HighPS",
   "type": "esriFieldTypeDouble",
   "alias": "HighPS",
   "domain": null
  },
  {
   "name": "Category",
   "type": "esriFieldTypeInteger",
   "alias": "Category",
   "domain": {
    "type": "codedValue",
    "name": "MosaicCatalogItemCategoryDomain",
    "description": "Catalog item categories.",
    "codedValues": [
     {
      "name": "Unknown",
      "code": 0
     },
     {
      "name": "Primary",
      "code": 1
     },
     {
      "name": "Overview",
      "code": 2
     },
     {
      "name": "Unprocessed Overview",
      "code": 3
     },
     {
      "name": "Partial Overview",
      "code": 4
     },
     {
      "name": "Uploaded",
      "code": 253
     },
     {
      "name": "Incomplete",
      "code": 254
     },
     {
      "name": "Custom",
      "code": 255
     }
    ],
    "mergePolicy": "esriMPTDefaultValue",
    "splitPolicy": "esriSPTDefaultValue"
   }
  },
  {
   "name": "Tag",
   "type": "esriFieldTypeString",
   "alias": "Tag",
   "domain": null,
   "length": 20
  },
  {
   "name": "GroupName",
   "type": "esriFieldTypeString",
   "alias": "GroupName",
   "domain": null,
   "length": 50
  },
  {
   "name": "ProductName",
   "type": "esriFieldTypeString",
   "alias": "ProductName",
   "domain": null,
   "length": 50
  },
  {
   "name": "CenterX",
   "type": "esriFieldTypeDouble",
   "alias": "CenterX",
   "domain": null
  },
  {
   "name": "CenterY",
   "type": "esriFieldTypeDouble",
   "alias": "CenterY",
   "domain": null
  },
  {
   "name": "ZOrder",
   "type": "esriFieldTypeInteger",
   "alias": "ZOrder",
   "domain": null
  },
  {
   "name": "Shape_Length",
   "type": "esriFieldTypeDouble",
   "alias": "Shape_Length",
   "domain": null
  },
  {
   "name": "Shape_Area",
   "type": "esriFieldTypeDouble",
   "alias": "Shape_Area",
   "domain": null
  }
 ],
 "capabilities": "Catalog,Image,Metadata",
 "defaultMosaicMethod": "Northwest",
 "allowedMosaicMethods": "NorthWest,Center,LockRaster,ByAttribute,Nadir,Viewpoint,Seamline,None",
 "sortField": "",
 "sortValue": null,
 "sortAscending": true,
 "mosaicOperator": "First",
 "maxDownloadSizeLimit": 2048,
 "defaultCompressionQuality": 75,
 "defaultResamplingMethod": "Bilinear",
 "maxImageHeight": 4100,
 "maxImageWidth": 15000,
 "maxRecordCount": 1000,
 "maxDownloadImageCount": 20,
 "maxMosaicImageCount": 20,
 "singleFusedMapCache": true,
 "tileInfo": {
  "rows": 256,
  "cols": 256,
  "dpi": 96,
  "format": "Mixed",
  "compressionQuality": 75,
  "origin": {
   "x": -2.0037508342787E7,
   "y": 2.0037508342787E7
  },
  "spatialReference": {
   "wkid": 102100,
   "latestWkid": 3857
  },
  "lods": [
   {
    "level": 0,
    "resolution": 156543.03392800014,
    "scale": 5.91657527591555E8
   },
   {
    "level": 1,
    "resolution": 78271.51696399994,
    "scale": 2.95828763795777E8
   },
   {
    "level": 2,
    "resolution": 39135.75848200009,
    "scale": 1.47914381897889E8
   },
   {
    "level": 3,
    "resolution": 19567.87924099992,
    "scale": 7.3957190948944E7
   },
   {
    "level": 4,
    "resolution": 9783.93962049996,
    "scale": 3.6978595474472E7
   },
   {
    "level": 5,
    "resolution": 4891.96981024998,
    "scale": 1.8489297737236E7
   },
   {
    "level": 6,
    "resolution": 2445.98490512499,
    "scale": 9244648.868618
   },
   {
    "level": 7,
    "resolution": 1222.992452562495,
    "scale": 4622324.434309
   },
   {
    "level": 8,
    "resolution": 611.4962262813797,
    "scale": 2311162.217155
   },
   {
    "level": 9,
    "resolution": 305.74811314055756,
    "scale": 1155581.108577
   },
   {
    "level": 10,
    "resolution": 152.87405657041106,
    "scale": 577790.554289
   },
   {
    "level": 11,
    "resolution": 76.43702828507324,
    "scale": 288895.277144
   },
   {
    "level": 12,
    "resolution": 38.21851414253662,
    "scale": 144447.638572
   },
   {
    "level": 13,
    "resolution": 19.10925707126831,
    "scale": 72223.819286
   },
   {
    "level": 14,
    "resolution": 9.554628535634155,
    "scale": 36111.909643
   },
   {
    "level": 15,
    "resolution": 4.77731426794937,
    "scale": 18055.954822
   },
   {
    "level": 16,
    "resolution": 2.388657133974685,
    "scale": 9027.977411
   },
   {
    "level": 17,
    "resolution": 1.1943285668550503,
    "scale": 4513.988705
   },
   {
    "level": 18,
    "resolution": 0.5971642835598172,
    "scale": 2256.994353
   },
   {
    "level": 19,
    "resolution": 0.29858214164761665,
    "scale": 1128.497176
   }
  ]
 },
 "cacheType": "Map",
 "allowRasterFunction": true,
 "rasterFunctionInfos": [
  {
   "name": "None",
   "description": "",
   "help": ""
  }
 ],
 "rasterTypeInfos": [
  {
   "name": "Raster Dataset",
   "description": "Supports all ArcGIS Raster Datasets",
   "help": ""
  }
 ],
 "mensurationCapabilities": "None",
 "hasHistograms": true,
 "hasColormap": false,
 "hasRasterAttributeTable": false,
 "minScale": 5.91657527591555E8,
 "maxScale": 1128.497176,
 "exportTilesAllowed": false,
 "hasMultidimensions": false,
 "supportsStatistics": true,
 "supportsAdvancedQueries": true,
 "editFieldsInfo": null,
 "ownershipBasedAccessControlForRasters": null,
 "allowComputeTiePoints": false,
 "useStandardizedQueries": true,
 "advancedQueryCapabilities": {
  "useStandardizedQueries": true,
  "supportsStatistics": true,
  "supportsOrderBy": true,
  "supportsDistinct": true,
  "supportsPagination": true
 },
 "spatialReference": {
  "wkid": 102100,
  "latestWkid": 3857
 }
}