<?xml version="1.0" encoding="UTF-8" standalone="no"?>
<metadata>
<idinfo>
<citation>
<citeinfo>
<origin>3001, Inc.</origin>
<pubdate>20050713</pubdate>
<title>OP2005_14134_NC</title>
<geoform>Remote-sensing Image</geoform>
<pubinfo>
<pubplace>3601 SW 2nd Ave, Suite Y, Gainesville, Fl 32607</pubplace>
<publish>3001, Inc.</publish>
</pubinfo>
</citeinfo>
</citation>
<descript>
<abstract>This dataset is a single orthophoto from a collection of GeoTIFF
format natural color orthophotos covering the Southwest Florida Water
Management District.
An orthophoto is remotely sensed image data in which displacement of
features in the image caused by terrain relief and sensor
orientation have been mathematically removed. Orthophotography
combines the image characteristics of a photograph with the
geometric qualities of a map. Each orthophoto provides imagery for a
5,000 foot by 5,000 foot cell area on the ground. The
source imagery was obtained in January and February of 2005 and used to produce
orthophotos with a one foot ground sample distance (GSD). Imagery was acquired
at 0.85 foot GSD resolution. Flight height
maintained during mission was 8,650 feet AGL. The imagery was captured
at 12-bit radiometric resolution and converted to 8-bit radiometric
resolution during post processing. The imagery was captured with 20%
sidelap between all adjacent flight lines. The SWFWMD project area
was divided into 10 flight blocks due to neccessary base station and
flight line length requirements. The imagery was obtained and processed
by all digital means beginning with data acquisition using an ADS40
digital sensor. The orthophotos are available in GeoTIFF form.
The projected coordinate system is State Plane Florida West (Zone 902), NAD 83 HARN, GRS 80, Units Feet.
</abstract>
<purpose>The purpose of the project is to provide the District with current year digital orthophotos.
The District reularly uses digital orthophotos to support regulatory, land management and acquistion,
planning, engineering and habitat restoration projects.
</purpose>
</descript>
<timeperd>
<timeinfo>
<sngdate>
<caldate>20050117</caldate>
</sngdate>
</timeinfo>
<current>Date of image acquisition</current>
</timeperd>
<status>
<progress>Complete</progress>
<update>Irregular</update>
</status>
<spdom>
<bounding>
<westbc>-82.8409857072</westbc>
<eastbc>-82.8253750888</eastbc>
<northbc>28.0863493869</northbc>
<southbc>28.0725039405</southbc>
</bounding>
</spdom>
<keywords>
<theme>
<themekt>none</themekt>
<themekey>orthophoto</themekey>
<themekey>orthoimage</themekey>
<themekey>framework</themekey>
</theme>
<place>
<placekt>none</placekt>
<placekey>Southwest Florida Water Management District</placekey>
<placekey>SWFWMD</placekey>
</place>
</keywords>
<accconst>None</accconst>
<useconst>These data were not collected under the supervision of a licensed Professional Surveyor and Mapper. Use of these data requires a general understanding of GIS.</useconst>
<ptcontac>
<cntinfo>
<cntaddr>
<addrtype>Mailing and Physical Address</addrtype>
<city>Brooksville</city>
<state>FL</state>
<postal>34604-6899</postal>
<address>2379 Broad Street (U.S. 41 South)</address>
</cntaddr>
<cntvoice>(352) 796-7211</cntvoice>
<cntfax>(352) 540-6018</cntfax>
<cntorgp>
<cntorg>Southwest Florida Water Management District</cntorg>
<cntper>Mapping and GIS Section</cntper>
</cntorgp>
</cntinfo>
</ptcontac>
<native>ESRI ArcCatalog 8.3.0.800</native>
</idinfo>
<dataqual>
<logic>Sample points taken from overlapping areas of adjacent image strips
that contributed image chips to each orthophoto tile are typically
consistent to the 2-3 pixel level. This not only ensures that a
consistent mosaic can be created from the adjacent image strips acquired
with the ADS40 pushbroom scanner but also means that the images have
good precision and as a group are spatially self-consistent.
</logic>
<complete>These data cover areas within the Southwest Florida Water Management District Boundary.</complete>
<lineage>
<srcinfo>
<srccite>
<citeinfo>
<origin>3001, Inc.</origin>
<pubdate>20050117</pubdate>
<title>Digital Aerial Imagery for 2005 SWFWMD Orthophotography</title>
<pubinfo>
<pubplace>3601 SW 2nd Ave, Suite Y, Gainesville, FL 32607</pubplace>
<publish>3001, Inc.</publish>
</pubinfo>
<othercit>Additional Information: (352)379-3001</othercit>
<geoform>(Select One)</geoform>
</citeinfo>
</srccite>
<srcscale>2400</srcscale>
<typesrc>disc</typesrc>
<srctime>
<timeinfo>
<sngdate>
<caldate>20050117 </caldate>
</sngdate>
</timeinfo>
<srccurr>Date of image acquisition</srccurr>
</srctime>
<srccitea>dig_aer_img</srccitea>
<srccontr>Flight planning, image acquisition, image processing and image packaging.</srccontr>
</srcinfo>
<srcinfo>
<srccite>
<citeinfo>
<origin>Morgan and Eklund, Inc.</origin>
<pubdate>20050401</pubdate>
<title>Ground Control for 2005 SWFWMD Orthophotography</title>
<pubinfo>
<pubplace>8745 US Hwy 1, Wabasso, FL 32970</pubplace>
<publish>Morgan and Eklund, Inc.</publish>
</pubinfo>
<othercit>Additional Information: (772)388-5364</othercit>
</citeinfo>
</srccite>
<srcscale>2400</srcscale>
<typesrc>disc</typesrc>
<srctime>
<timeinfo>
<sngdate>
<caldate>20050323</caldate>
</sngdate>
</timeinfo>
<srccurr>Date ground control was collected</srccurr>
</srctime>
<srccitea>photo_control</srccitea>
<srccontr>
Horizontal and vertical control used to establish positions and
elevations for reference and correlation purposes and as input to
the aerotriangulation process.
</srccontr>
</srcinfo>
<srcinfo>
<srccite>
<citeinfo>
<origin>Southwest Florida Water Management District, Mapping and GIS Section</origin>
<pubdate>20050401</pubdate>
<title>DEM for Orthorectification of 2005 SWFWMD Orthophotography</title>
<pubinfo>
<pubplace>2379 Broad Street (U.S. 41 South), Brooksville, FL 34604-6899</pubplace>
<publish>Southwest Florida Water Management District, Mapping and GIS Section</publish>
</pubinfo>
<othercit>Additional Information: (352) 796-7211</othercit>
</citeinfo>
</srccite>
<srcscale>2400</srcscale>
<typesrc>disc</typesrc>
<srctime>
<timeinfo>
<sngdate>
<caldate>20050201</caldate>
</sngdate>
</timeinfo>
<srccurr>Date DEM was received from SWFWMD</srccurr>
</srctime>
<srccitea>ortho_dem</srccitea>
<srccontr>Ground elevations used for orthorectification process</srccontr>
</srcinfo>
<procstep>
<procdesc>Ground control consisted of photo identifiable surveyed points. The imagery was collected at an altitude of
8650 ft using an ADS40 digital sensor. Image quality was verified druing
the post flight review phase. Factors considered during this review included
but were not limited to the presence of smoke and/or cloud cover, contrails, light
conditions and sun glint.
The triangulated strips were rectified with a recent DEM of the
area provided by the SWFWMD. The vertical accuracy of the DEM varies based on the elevation
postings and is generally estimated at 15-30cm. The red, green
and blue bands were combined to generate a final orthophoto.
The ADS40 sensor collects twelve bit image data which requires
radiometric adjustment for output in standard eight bit image
channels. Converting to eight bit results in a reduction of the
color range from 4096 to 256 - thus loss of radiometric detail is
inevitable. The extra dynamic range of the sensor permits greater
object differentiation in shadows and in bright areas. The sixteen
bit dynamic range permitted the imagery to be more effectively color
balanced than is possible with eight bit imagery. This was accomplished
by performing tonal enhancements immediately prior to the reduction from
sixteen bit to eight bit data. In addition to color banancing these
eight bit images were adjusted to create seamless imagery to the highest
extent practically achievable.
The imagery was mosaicked using a combination of automated and
manual seamlines generation. Project specified tiles were
extracted from the mosaic. Final image tiles were reviewed for
artifacts and anomalies and adjusted as part of quality control
procedures. When necessary, local corrections to the
imagery were performed to minimize such effects.
</procdesc>
<srcused>withheld</srcused>
<srcused>withheld</srcused>
<srcused>withheld</srcused>
<procdate>200506</procdate>
<proccont>
<cntinfo>
<cntorgp>
<cntorg>3001, Inc.</cntorg>
<cntper>Peter Briere</cntper>
</cntorgp>
<cntaddr>
<addrtype>Mailing &amp; Physical Address</addrtype>
<address>3601 SW 2nd Ave., Suite Y</address>
<city>Gainesville</city>
<state>FL</state>
<postal>32607</postal>
</cntaddr>
<cntvoice>(352) 379-3001</cntvoice>
<cntfax>(352) 377-4234</cntfax>
<hours>8:00 a.m. to 5:00 p.m.</hours>
<cntperp>
<cntper>Peter Briere</cntper>
<cntorg>3001, Inc.</cntorg>
</cntperp>
</cntinfo>
</proccont>
</procstep>
</lineage>
</dataqual>
<spdoinfo>
<direct>Raster</direct>
</spdoinfo>
<spref>
<horizsys>
<planar>
<planci>
<plance>coordinate pair</plance>
<coordrep>
<absres>1.00</absres>
<ordres>1.00</ordres>
</coordrep>
<plandu>Foot_US</plandu>
</planci>
</planar>
<geodetic>
<horizdn>D_North_American_1983_HARN</horizdn>
<ellips>GRS_1980</ellips>
<semiaxis>6378137</semiaxis>
<denflat>298.257222101</denflat>
</geodetic>
</horizsys>
</spref>
<distinfo>
<distrib>
<cntinfo>
<cntaddr>
<addrtype>Mailing and Physical Address</addrtype>
<city>Brooksville</city>
<state>FL</state>
<postal>34604-6899</postal>
<address>2379 Broad Street (U.S. 41 South)</address>
</cntaddr>
<cntvoice>(352) 796-7211</cntvoice>
<cntfax>(352) 540-6018</cntfax>
<hours>8:00 a.m. to 5:00 p.m.</hours>
<cntorgp>
<cntorg>Southwest Florida Water Management District</cntorg>
<cntper>Mapping and GIS Section</cntper>
</cntorgp>
</cntinfo>
</distrib>
<resdesc>The data are being provided on an 'as is' basis. The District specifically disclaims any warranty, expressed or implied, including, but not limited to, the implied warranties or merchantability and fitness for a particular use. The entire risk as to quality and performance is with the user. In no event will the District or its staff be liable for any direct, indirect, incidental, special, consequential, or other damages, including loss of profit, arising out of the use of these data even if the District has been advised of the possibility of such damages. All data are intended for resource management use.</resdesc>
<distliab>Translation of files to formats other than those described here is the sole responsibility of individuals downloading the data.</distliab>
</distinfo>
<metainfo>
<metd>20050716</metd>
<metc>
<cntinfo>
<cntaddr>
<addrtype>Mailing and Physical Address</addrtype>
<city>Gainesville</city>
<state>FL</state>
<postal>32607</postal>
<address>3601 SW 2nd Ave., Suite Y</address>
</cntaddr>
<cntvoice>(352) 379-3001</cntvoice>
<hours>8:00 a.m. to 5:00 p.m.</hours>
<cntorgp>
<cntorg>3001, Inc.</cntorg>
<cntper>Peter Briere</cntper>
</cntorgp>
</cntinfo>
</metc>
<metstdn>FGDC Content Standards for Digital Geospatial Metadata</metstdn>
<metstdv>FGDC-STD-001-1998</metstdv>
<mettc>local time</mettc>
</metainfo>
<dataIdInfo>
<envirDesc Sync="TRUE"> Version 6.2 (Build 9200) ; Esri ArcGIS 10.6.1.9328</envirDesc>
<dataLang>
<languageCode Sync="TRUE" value="eng">
</languageCode>
<countryCode Sync="TRUE" value="USA">
</countryCode>
</dataLang>
<idCitation>
<resTitle Sync="TRUE">Aerials2005</resTitle>
<presForm>
<PresFormCd Sync="TRUE" value="005">
</PresFormCd>
</presForm>
</idCitation>
<spatRpType>
<SpatRepTypCd Sync="TRUE" value="002">
</SpatRepTypCd>
</spatRpType>
<dataExt>
<geoEle>
<GeoBndBox esriExtentType="search">
<exTypeCode Sync="TRUE">1</exTypeCode>
<westBL Sync="TRUE">-82.858448</westBL>
<eastBL Sync="TRUE">-82.542460</eastBL>
<northBL Sync="TRUE">28.198723</northBL>
<southBL Sync="TRUE">27.563413</southBL>
</GeoBndBox>
</geoEle>
</dataExt>
<idAbs>This dataset is a single orthophoto from a collection of GeoTIFF
format natural color orthophotos covering the Southwest Florida Water
Management District.
An orthophoto is remotely sensed image data in which displacement of
features in the image caused by terrain relief and sensor
orientation have been mathematically removed. Orthophotography
combines the image characteristics of a photograph with the
geometric qualities of a map. Each orthophoto provides imagery for a
5,000 foot by 5,000 foot cell area on the ground. The
source imagery was obtained in January and February of 2005 and used to produce
orthophotos with a one foot ground sample distance (GSD). Imagery was acquired
at 0.85 foot GSD resolution. Flight height
maintained during mission was 8,650 feet AGL. The imagery was captured
at 12-bit radiometric resolution and converted to 8-bit radiometric
resolution during post processing. The imagery was captured with 20%
sidelap between all adjacent flight lines. The SWFWMD project area
was divided into 10 flight blocks due to neccessary base station and
flight line length requirements. The imagery was obtained and processed
by all digital means beginning with data acquisition using an ADS40
digital sensor. The orthophotos are available in GeoTIFF form.
The projected coordinate system is State Plane Florida West (Zone 902), NAD 83 HARN, GRS 80, Units Feet.</idAbs>
<searchKeys>
<keyword>Southwest Florida Water Management District</keyword>
<keyword>SWFWMD</keyword>
<keyword>orthophoto</keyword>
<keyword>orthoimage</keyword>
<keyword>framework</keyword>
</searchKeys>
<idPurp>The purpose of the project is to provide the District with current year digital orthophotos.
The District reularly uses digital orthophotos to support...</idPurp>
<idCredit/>
<resConst>
<Consts>
<useLimit/>
</Consts>
</resConst>
</dataIdInfo>
<mdLang>
<languageCode Sync="TRUE" value="eng">
</languageCode>
<countryCode Sync="TRUE" value="USA">
</countryCode>
</mdLang>
<Esri>
<DataProperties>
<itemProps>
<itemName Sync="TRUE">Aerials2005</itemName>
<nativeExtBox>
<westBL Sync="TRUE">379653.999883</westBL>
<eastBL Sync="TRUE">480420.999880</eastBL>
<southBL Sync="TRUE">1174937.000045</southBL>
<northBL Sync="TRUE">1405348.000038</northBL>
<exTypeCode Sync="TRUE">1</exTypeCode>
</nativeExtBox>
</itemProps>
<coordRef>
<type Sync="TRUE">Projected</type>
<geogcsn Sync="TRUE">GCS_North_American_1983</geogcsn>
<csUnits Sync="TRUE">Linear Unit: Foot_US (0.304801)</csUnits>
<projcsn Sync="TRUE">NAD_1983_StatePlane_Florida_West_FIPS_0902_Feet</projcsn>
<peXml Sync="TRUE">&lt;ProjectedCoordinateSystem xsi:type='typens:ProjectedCoordinateSystem' xmlns:xsi='http://www.w3.org/2001/XMLSchema-instance' xmlns:xs='http://www.w3.org/2001/XMLSchema' xmlns:typens='http://www.esri.com/schemas/ArcGIS/10.6'&gt;&lt;WKT&gt;PROJCS[&amp;quot;NAD_1983_StatePlane_Florida_West_FIPS_0902_Feet&amp;quot;,GEOGCS[&amp;quot;GCS_North_American_1983&amp;quot;,DATUM[&amp;quot;D_North_American_1983&amp;quot;,SPHEROID[&amp;quot;GRS_1980&amp;quot;,6378137.0,298.257222101]],PRIMEM[&amp;quot;Greenwich&amp;quot;,0.0],UNIT[&amp;quot;Degree&amp;quot;,0.0174532925199433]],PROJECTION[&amp;quot;Transverse_Mercator&amp;quot;],PARAMETER[&amp;quot;False_Easting&amp;quot;,656166.6666666665],PARAMETER[&amp;quot;False_Northing&amp;quot;,0.0],PARAMETER[&amp;quot;Central_Meridian&amp;quot;,-82.0],PARAMETER[&amp;quot;Scale_Factor&amp;quot;,0.9999411764705882],PARAMETER[&amp;quot;Latitude_Of_Origin&amp;quot;,24.33333333333333],UNIT[&amp;quot;Foot_US&amp;quot;,0.3048006096012192],AUTHORITY[&amp;quot;EPSG&amp;quot;,2237]]&lt;/WKT&gt;&lt;XOrigin&gt;-17791300&lt;/XOrigin&gt;&lt;YOrigin&gt;-41645400&lt;/YOrigin&gt;&lt;XYScale&gt;137249422.94257641&lt;/XYScale&gt;&lt;ZOrigin&gt;-100000&lt;/ZOrigin&gt;&lt;ZScale&gt;10000&lt;/ZScale&gt;&lt;MOrigin&gt;-100000&lt;/MOrigin&gt;&lt;MScale&gt;10000&lt;/MScale&gt;&lt;XYTolerance&gt;0.0032808333333333331&lt;/XYTolerance&gt;&lt;ZTolerance&gt;0.001&lt;/ZTolerance&gt;&lt;MTolerance&gt;0.001&lt;/MTolerance&gt;&lt;HighPrecision&gt;true&lt;/HighPrecision&gt;&lt;WKID&gt;102659&lt;/WKID&gt;&lt;LatestWKID&gt;2237&lt;/LatestWKID&gt;&lt;/ProjectedCoordinateSystem&gt;</peXml>
</coordRef>
<RasterProperties>
<General>
<PixelDepth Sync="TRUE">8</PixelDepth>
<HasColormap Sync="TRUE">FALSE</HasColormap>
<CompressionType Sync="TRUE">None</CompressionType>
<NumBands Sync="TRUE">3</NumBands>
<Format Sync="TRUE">AMD</Format>
<HasPyramids Sync="TRUE">TRUE</HasPyramids>
<SourceType Sync="TRUE">continuous</SourceType>
<PixelType Sync="TRUE">unsigned integer</PixelType>
<NoDataValue Sync="TRUE">
</NoDataValue>
</General>
<Properties>
<MaxImageHeight Sync="TRUE">4100</MaxImageHeight>
<MaxImageWidth Sync="TRUE">15000</MaxImageWidth>
<MaxRecordCount Sync="TRUE">1000</MaxRecordCount>
<MaxDownloadImageCount Sync="TRUE">20</MaxDownloadImageCount>
<MaxDownloadSizeLimit Sync="TRUE">2048</MaxDownloadSizeLimit>
<MaxMosaicImageCount Sync="TRUE">20</MaxMosaicImageCount>
<DefaultCompressionQuality Sync="TRUE">75</DefaultCompressionQuality>
<DefaultCompressionTolerance Sync="TRUE">0.01</DefaultCompressionTolerance>
<BlendWidth Sync="TRUE">10</BlendWidth>
<ViewpointSpacingX Sync="TRUE">600</ViewpointSpacingX>
<ViewpointSpacingY Sync="TRUE">300</ViewpointSpacingY>
<AllowedItemMetadata Sync="TRUE">Basic</AllowedItemMetadata>
<DefaultResamplingMethod Sync="TRUE">1</DefaultResamplingMethod>
<AllowedMosaicMethods Sync="TRUE">NorthWest,Center,LockRaster,ByAttribute,Nadir,Viewpoint,Seamline,None</AllowedMosaicMethods>
<AllowedCompressions Sync="TRUE">None,JPEG,LZ77,LERC</AllowedCompressions>
<AllowedMensurationCapabilities Sync="TRUE">None</AllowedMensurationCapabilities>
<AvailableMensurationCapabilities Sync="TRUE">None,Basic,Base-Top Height,Top-Top Shadow Height,Base-Top Shadow Height,3D</AvailableMensurationCapabilities>
<ClipToBoundary Sync="TRUE">-1</ClipToBoundary>
<FootprintMayContainNoData Sync="TRUE">-1</FootprintMayContainNoData>
<CellSizeTolerance Sync="TRUE">0.8</CellSizeTolerance>
<MinimumPixelContribution Sync="TRUE">1</MinimumPixelContribution>
<AvailableMosaicMethods Sync="TRUE">NorthWest,Center,LockRaster,ByAttribute,Nadir,Viewpoint,Seamline,None</AvailableMosaicMethods>
<AvailableCompressionMethods Sync="TRUE">None,JPEG,LZ77,LERC</AvailableCompressionMethods>
<AvailableItemMetadataLevels Sync="TRUE">None,Basic,Full</AvailableItemMetadataLevels>
<ConfigKeyword Sync="TRUE">
</ConfigKeyword>
<BandDefinitionKeyword Sync="TRUE">NONE</BandDefinitionKeyword>
<AllowedFields Sync="TRUE">Name,MinPS,MaxPS,LowPS,HighPS,Tag,GroupName,ProductName,CenterX,CenterY,ZOrder,Shape_Length,Shape_Area,DateTime</AllowedFields>
<MaxCellSize Sync="TRUE">4860</MaxCellSize>
<LowCellSize Sync="TRUE">0.999999999970896</LowCellSize>
<HighCellSize Sync="TRUE">486</HighCellSize>
<ApplyColorCorrection Sync="TRUE">0</ApplyColorCorrection>
<TimeValueFormat Sync="TRUE">YYYY</TimeValueFormat>
<EndTimeFieldName Sync="TRUE">MaxPS</EndTimeFieldName>
<StartTimeFieldName Sync="TRUE">MinPS</StartTimeFieldName>
<MosaicOperator Sync="TRUE">1</MosaicOperator>
<UseTime Sync="TRUE">-1</UseTime>
<SortAscending Sync="TRUE">-1</SortAscending>
<ClipToFootprint Sync="TRUE">0</ClipToFootprint>
<SortField Sync="TRUE">Name</SortField>
<SortValue Sync="TRUE">0</SortValue>
</Properties>
<Functions Sync="TRUE">
<Function Description="Performs on-the-fly mosaic on a raster catalog." Name="Mosaic Function">
</Function>
</Functions>
</RasterProperties>
</DataProperties>
<SyncDate>20200130</SyncDate>
<SyncTime>14364600</SyncTime>
<ModDate>20200130</ModDate>
<ModTime>14364600</ModTime>
</Esri>
<refSysInfo>
<RefSystem>
<refSysID>
<identCode Sync="TRUE" code="2237">
</identCode>
<idCodeSpace Sync="TRUE">EPSG</idCodeSpace>
<idVersion Sync="TRUE">5.3(9.0.0)</idVersion>
</refSysID>
</RefSystem>
</refSysInfo>
<spatRepInfo>
<Georect>
<cellGeo>
<CellGeoCd Sync="TRUE" value="002">
</CellGeoCd>
</cellGeo>
<numDims Sync="TRUE">2</numDims>
<tranParaAv Sync="TRUE">1</tranParaAv>
<chkPtAv Sync="TRUE">0</chkPtAv>
<cornerPts>
<pos Sync="TRUE">379653.999883 1174937.000045</pos>
</cornerPts>
<cornerPts>
<pos Sync="TRUE">379653.999883 1405348.000038</pos>
</cornerPts>
<cornerPts>
<pos Sync="TRUE">480420.999880 1405348.000038</pos>
</cornerPts>
<cornerPts>
<pos Sync="TRUE">480420.999880 1174937.000045</pos>
</cornerPts>
<centerPt>
<pos Sync="TRUE">430037.499881 1290142.500041</pos>
</centerPt>
<axisDimension type="002">
<dimSize Sync="TRUE">100767</dimSize>
<dimResol>
<value Sync="TRUE" uom="ftUS">1.000000</value>
</dimResol>
</axisDimension>
<axisDimension type="001">
<dimSize Sync="TRUE">230411</dimSize>
<dimResol>
<value Sync="TRUE" uom="ftUS">1.000000</value>
</dimResol>
</axisDimension>
<ptInPixel>
<PixOrientCd Sync="TRUE" value="001">
</PixOrientCd>
</ptInPixel>
</Georect>
</spatRepInfo>
<contInfo>
<ImgDesc>
<contentTyp>
<ContentTypCd Sync="TRUE" value="001">
</ContentTypCd>
</contentTyp>
<covDim>
<Band>
<dimDescrp Sync="TRUE">Band_1</dimDescrp>
<bitsPerVal Sync="TRUE">8</bitsPerVal>
<valUnit>
<UOM type="length">
</UOM>
</valUnit>
</Band>
<Band>
<dimDescrp Sync="TRUE">Band_2</dimDescrp>
<bitsPerVal Sync="TRUE">8</bitsPerVal>
<valUnit>
<UOM type="length">
</UOM>
</valUnit>
</Band>
<Band>
<dimDescrp Sync="TRUE">Band_3</dimDescrp>
<bitsPerVal Sync="TRUE">8</bitsPerVal>
<valUnit>
<UOM type="length">
</UOM>
</valUnit>
</Band>
</covDim>
</ImgDesc>
</contInfo>
<mdDateSt Sync="TRUE">20200130</mdDateSt>
</metadata>
