{
 "currentVersion": 10.91,
 "serviceDescription": "This dataset is a single orthophoto from a collection of GeoTIFF\nformat natural color orthophotos covering the Southwest Florida Water\nManagement District.\n\nAn orthophoto is remotely sensed image data in which displacement of\nfeatures in the image caused by terrain relief and sensor\norientation have been mathematically removed. Orthophotography\ncombines the image characteristics of a photograph with the\ngeometric qualities of a map. Each orthophoto provides imagery for a\n5,000 foot by 5,000 foot cell area on the ground. The\nsource imagery was obtained in January and February of 2005 and used to produce\northophotos with a one foot ground sample distance (GSD). Imagery was acquired\nat 0.85 foot GSD resolution. Flight height\nmaintained during mission was 8,650 feet AGL. The imagery was captured\nat 12-bit radiometric resolution and converted to 8-bit radiometric\nresolution during post processing. The imagery was captured with 20%\nsidelap between all adjacent flight lines. The SWFWMD project area\nwas divided into 10 flight blocks due to neccessary base station and\nflight line length requirements. The imagery was obtained and processed\nby all digital means beginning with data acquisition using an ADS40\ndigital sensor. The orthophotos are available in GeoTIFF form.\nThe projected coordinate system is State Plane Florida West (Zone 902), NAD 83 HARN, GRS 80, Units Feet.",
 "name": "Aerials/Aerials2005",
 "description": "This dataset is a single orthophoto from a collection of GeoTIFF\nformat natural color orthophotos covering the Southwest Florida Water\nManagement District.\n\nAn orthophoto is remotely sensed image data in which displacement of\nfeatures in the image caused by terrain relief and sensor\norientation have been mathematically removed. Orthophotography\ncombines the image characteristics of a photograph with the\ngeometric qualities of a map. Each orthophoto provides imagery for a\n5,000 foot by 5,000 foot cell area on the ground. The\nsource imagery was obtained in January and February of 2005 and used to produce\northophotos with a one foot ground sample distance (GSD). Imagery was acquired\nat 0.85 foot GSD resolution. Flight height\nmaintained during mission was 8,650 feet AGL. The imagery was captured\nat 12-bit radiometric resolution and converted to 8-bit radiometric\nresolution during post processing. The imagery was captured with 20%\nsidelap between all adjacent flight lines. The SWFWMD project area\nwas divided into 10 flight blocks due to neccessary base station and\nflight line length requirements. The imagery was obtained and processed\nby all digital means beginning with data acquisition using an ADS40\ndigital sensor. The orthophotos are available in GeoTIFF form.\nThe projected coordinate system is State Plane Florida West (Zone 902), NAD 83 HARN, GRS 80, Units Feet.",
 "extent": {
  "xmin": -9223760.27727026,
  "ymin": 3194040.838389524,
  "xmax": -9188584.565590622,
  "ymax": 3274051.4144989,
  "spatialReference": {
   "wkid": 102100,
   "latestWkid": 3857
  }
 },
 "initialExtent": {
  "xmin": -9223760.27727026,
  "ymin": 3194040.838389524,
  "xmax": -9188584.565590622,
  "ymax": 3274051.4144989,
  "spatialReference": {
   "wkid": 102100,
   "latestWkid": 3857
  }
 },
 "fullExtent": {
  "xmin": -9223760.27727026,
  "ymin": 3194040.838389524,
  "xmax": -9188584.565590622,
  "ymax": 3274051.4144989,
  "spatialReference": {
   "wkid": 102100,
   "latestWkid": 3857
  }
 },
 "timeInfo": {
  "startTimeField": "MinPS",
  "endTimeField": "MaxPS",
  "timeExtent": [
   978307200000,
   91199606400000
  ],
  "timeReference": null
 },
 "pixelSizeX": 0.3048006095923483,
 "pixelSizeY": 0.3048006095923485,
 "bandCount": 3,
 "pixelType": "U8",
 "minPixelSize": 0.29858214164761643,
 "maxPixelSize": 156543.033928,
 "copyrightText": "",
 "serviceDataType": "esriImageServiceDataTypeRGB",
 "minValues": [],
 "maxValues": [],
 "meanValues": [],
 "stdvValues": [],
 "objectIdField": "OBJECTID",
 "fields": [
  {
   "name": "OBJECTID",
   "type": "esriFieldTypeOID",
   "alias": "OBJECTID",
   "domain": null
  },
  {
   "name": "Shape",
   "type": "esriFieldTypeGeometry",
   "alias": "Shape",
   "domain": null
  },
  {
   "name": "Name",
   "type": "esriFieldTypeString",
   "alias": "Name",
   "domain": null,
   "length": 50
  },
  {
   "name": "MinPS",
   "type": "esriFieldTypeDouble",
   "alias": "MinPS",
   "domain": null
  },
  {
   "name": "MaxPS",
   "type": "esriFieldTypeDouble",
   "alias": "MaxPS",
   "domain": null
  },
  {
   "name": "LowPS",
   "type": "esriFieldTypeDouble",
   "alias": "LowPS",
   "domain": null
  },
  {
   "name": "HighPS",
   "type": "esriFieldTypeDouble",
   "alias": "HighPS",
   "domain": null
  },
  {
   "name": "Category",
   "type": "esriFieldTypeInteger",
   "alias": "Category",
   "domain": {
    "type": "codedValue",
    "name": "MosaicCatalogItemCategoryDomain",
    "description": "Catalog item categories.",
    "codedValues": [
     {
      "name": "Unknown",
      "code": 0
     },
     {
      "name": "Primary",
      "code": 1
     },
     {
      "name": "Overview",
      "code": 2
     },
     {
      "name": "Unprocessed Overview",
      "code": 3
     },
     {
      "name": "Partial Overview",
      "code": 4
     },
     {
      "name": "Uploaded",
      "code": 253
     },
     {
      "name": "Incomplete",
      "code": 254
     },
     {
      "name": "Custom",
      "code": 255
     }
    ],
    "mergePolicy": "esriMPTDefaultValue",
    "splitPolicy": "esriSPTDefaultValue"
   }
  },
  {
   "name": "Tag",
   "type": "esriFieldTypeString",
   "alias": "Tag",
   "domain": null,
   "length": 20
  },
  {
   "name": "GroupName",
   "type": "esriFieldTypeString",
   "alias": "GroupName",
   "domain": null,
   "length": 50
  },
  {
   "name": "ProductName",
   "type": "esriFieldTypeString",
   "alias": "ProductName",
   "domain": null,
   "length": 50
  },
  {
   "name": "CenterX",
   "type": "esriFieldTypeDouble",
   "alias": "CenterX",
   "domain": null
  },
  {
   "name": "CenterY",
   "type": "esriFieldTypeDouble",
   "alias": "CenterY",
   "domain": null
  },
  {
   "name": "ZOrder",
   "type": "esriFieldTypeInteger",
   "alias": "ZOrder",
   "domain": null
  },
  {
   "name": "Shape_Length",
   "type": "esriFieldTypeDouble",
   "alias": "Shape_Length",
   "domain": null
  },
  {
   "name": "Shape_Area",
   "type": "esriFieldTypeDouble",
   "alias": "Shape_Area",
   "domain": null
  },
  {
   "name": "DateTime",
   "type": "esriFieldTypeDate",
   "alias": "DateTime",
   "domain": null,
   "length": 8
  }
 ],
 "capabilities": "Image,Metadata,Catalog",
 "defaultMosaicMethod": "Northwest",
 "allowedMosaicMethods": "NorthWest,Center,LockRaster,ByAttribute,Nadir,Viewpoint,Seamline,None",
 "sortField": "",
 "sortValue": null,
 "sortAscending": true,
 "mosaicOperator": "First",
 "maxDownloadSizeLimit": 2048,
 "defaultCompressionQuality": 75,
 "defaultResamplingMethod": "Bilinear",
 "maxImageHeight": 4100,
 "maxImageWidth": 15000,
 "maxRecordCount": 1000,
 "maxDownloadImageCount": 20,
 "maxMosaicImageCount": 20,
 "singleFusedMapCache": true,
 "tileInfo": {
  "rows": 256,
  "cols": 256,
  "dpi": 96,
  "format": "MIXED",
  "compressionQuality": 75,
  "origin": {
   "x": -2.0037508342787E7,
   "y": 2.0037508342787E7
  },
  "spatialReference": {
   "wkid": 102100,
   "latestWkid": 3857
  },
  "lods": [
   {
    "level": 0,
    "resolution": 156543.033928,
    "scale": 5.91657527591555E8
   },
   {
    "level": 1,
    "resolution": 78271.5169639999,
    "scale": 2.95828763795777E8
   },
   {
    "level": 2,
    "resolution": 39135.7584820001,
    "scale": 1.47914381897889E8
   },
   {
    "level": 3,
    "resolution": 19567.8792409999,
    "scale": 7.3957190948944E7
   },
   {
    "level": 4,
    "resolution": 9783.93962049996,
    "scale": 3.6978595474472E7
   },
   {
    "level": 5,
    "resolution": 4891.96981024998,
    "scale": 1.8489297737236E7
   },
   {
    "level": 6,
    "resolution": 2445.98490512499,
    "scale": 9244648.868618
   },
   {
    "level": 7,
    "resolution": 1222.99245256249,
    "scale": 4622324.434309
   },
   {
    "level": 8,
    "resolution": 611.49622628138,
    "scale": 2311162.217155
   },
   {
    "level": 9,
    "resolution": 305.748113140558,
    "scale": 1155581.108577
   },
   {
    "level": 10,
    "resolution": 152.874056570411,
    "scale": 577790.554289
   },
   {
    "level": 11,
    "resolution": 76.4370282850732,
    "scale": 288895.277144
   },
   {
    "level": 12,
    "resolution": 38.2185141425366,
    "scale": 144447.638572
   },
   {
    "level": 13,
    "resolution": 19.1092570712683,
    "scale": 72223.819286
   },
   {
    "level": 14,
    "resolution": 9.55462853563415,
    "scale": 36111.909643
   },
   {
    "level": 15,
    "resolution": 4.77731426794937,
    "scale": 18055.954822
   },
   {
    "level": 16,
    "resolution": 2.38865713397468,
    "scale": 9027.977411
   },
   {
    "level": 17,
    "resolution": 1.19432856685505,
    "scale": 4513.988705
   },
   {
    "level": 18,
    "resolution": 0.597164283559817,
    "scale": 2256.994353
   },
   {
    "level": 19,
    "resolution": 0.298582141647617,
    "scale": 1128.497176
   }
  ]
 },
 "cacheType": "Map",
 "allowRasterFunction": true,
 "rasterFunctionInfos": [
  {
   "name": "None",
   "description": "",
   "help": ""
  }
 ],
 "rasterTypeInfos": [
  {
   "name": "Raster Dataset",
   "description": "Supports all ArcGIS Raster Datasets",
   "help": ""
  }
 ],
 "mensurationCapabilities": "None",
 "hasHistograms": false,
 "hasColormap": false,
 "hasRasterAttributeTable": false,
 "minScale": 5.91657527591555E8,
 "maxScale": 1128.497176,
 "exportTilesAllowed": false,
 "hasMultidimensions": false,
 "supportsStatistics": true,
 "supportsAdvancedQueries": true,
 "editFieldsInfo": null,
 "ownershipBasedAccessControlForRasters": null,
 "allowComputeTiePoints": false,
 "useStandardizedQueries": true,
 "advancedQueryCapabilities": {
  "useStandardizedQueries": true,
  "supportsStatistics": true,
  "supportsOrderBy": true,
  "supportsDistinct": true,
  "supportsPagination": true
 },
 "spatialReference": {
  "wkid": 102100,
  "latestWkid": 3857
 }
}
