<?xml version="1.0" encoding="UTF-8" standalone="no"?>
<metadata>
<idinfo>
<citation>
<citeinfo>
<origin>ACA</origin>
<pubdate>2014</pubdate>
<title>Pinellas_Cut_Seamlines</title>
<geoform>vector digital data</geoform>
<serinfo>
<sername>Cutline Feature Class - 2014</sername>
<issue>Pinellas</issue>
</serinfo>
<pubinfo>
<pubplace>Clearwater, Fl</pubplace>
<publish>Pinellas County Property Appraiser</publish>
</pubinfo>
<onlink>withheld</onlink>
<lworkcit>
<citeinfo>
<origin>ACA</origin>
<pubdate>2014</pubdate>
<title>Pinellas_Cut_Seamlines</title>
<serinfo>
<sername>Cutline Feature Class - 2014</sername>
<issue>Pinellas</issue>
</serinfo>
<pubinfo>
<pubplace>Clearwater, Fl</pubplace>
<publish>Pinellas County Property Appraiser</publish>
</pubinfo>
</citeinfo>
</lworkcit>
</citeinfo>
</citation>
<descript>
<abstract>This feature class accompanied the FY2014 Orthophotos for the Pinellas project area. The polygons delineate image capture dates used to seam together flight lines for the production of orthophotos.. The flight acquisition period for the Pinellas project area was from Dec. 24, 2013 to Jan. 20, 2014, Four flight dates are delineated in the image cutline.</abstract>
<purpose>The purpose of this feature class is to identify the flight dates for the project area.</purpose>
<supplinf>All photography was to be taken beginning on the Dec 1, 2013 and no later than March 1st weather permitting. Images were to be obtained under cloud free conditions. A thirty degree sun angle was to be held and within 10am to 2:30pm period. No images should be taken, if haze or smoke is present.</supplinf>
</descript>
<timeperd>
<timeinfo>
<rngdates>
<begdate>20131224</begdate>
<enddate>20140120</enddate>
</rngdates>
</timeinfo>
<current>ground condition</current>
</timeperd>
<status>
<progress>Complete</progress>
<update>As needed</update>
</status>
<spdom>
<bounding>
<westbc>-82.858732</westbc>
<eastbc>-82.572936</eastbc>
<northbc>28.185127</northbc>
<southbc>27.602665</southbc>
</bounding>
</spdom>
<keywords>
<theme>
<themekt>None</themekt>
<themekey>Flight Dates</themekey>
<themekey>Seamline</themekey>
<themekey>Cutline</themekey>
</theme>
<place>
<placekt>None</placekt>
<placekey>Florida</placekey>
<placekey>Pinellas</placekey>
</place>
</keywords>
<accconst>None</accconst>
<useconst>Use of this data requires a general understanding of GIS.</useconst>
<ptcontac>
<cntinfo>
<cntperp>
<cntper>Property Apraiser</cntper>
<cntorg>Pinellas County Property Appraiser</cntorg>
</cntperp>
<cntaddr>
<addrtype>mailing address</addrtype>
<address>PO Box 1957</address>
<city>Clearwater</city>
<state>FL</state>
<postal>33757-1957</postal>
<country>USA</country>
</cntaddr>
<cntvoice>(727) 464-3840</cntvoice>
<cntfax>(727) 464-3448</cntfax>
<hours>8:00 a.m. to 5:00 p.m.</hours>
</cntinfo>
</ptcontac>
<native>ESRI ArcCatalog 9.3.1.1850</native>
</idinfo>
<dataqual>
<logic>A cutline feature class file is created using Inpho software then processed into ESRI to become closed polygons with flight date attribute information. The feature class is also checked to make sure it covers the project boundary.</logic>
<complete>The cutline feature class is visually inspected for completeness to ensure that no gaps or data voids are found within the project boundary.</complete>
<posacc>
<horizpa>
<horizpar>Horizontal accuracy is 3.46-foot at the 95% confidence level (2.0 feet RMSE) as specified by the FGDC Geospatial Positional Accuracy Standards, Part3: NSSDA. A minimum of thirty (30) independent checkpoints within the project area were used for verfication. The Consultant did not correct for "building lean" in urban areas.</horizpar>
<qhorizpa>
<horizpav>3.46 feet or 2.0 feet RMSE</horizpav>
<horizpae>Meets or exceeds National Standards for Spatial Data Accuracy.</horizpae>
</qhorizpa>
</horizpa>
<vertacc>
<vertaccr>No vertical accuracy analysis required for the orthophotos.</vertaccr>
</vertacc>
</posacc>
<lineage>
<srcinfo>
<srccite>
<citeinfo>
<origin>ACA</origin>
<pubdate>2014</pubdate>
<title>Digital Imagery Acquisition</title>
<serinfo>
<sername>Aerial Acquisition</sername>
<issue>Pinellas - 2014</issue>
</serinfo>
<pubinfo>
<pubplace>Clearwater, FL</pubplace>
<publish>Pinellas County Property Appraiser</publish>
</pubinfo>
<lworkcit>
<citeinfo>
<origin>ACA</origin>
<pubdate>2014</pubdate>
<title>Digital Aerial Acquisition</title>
<serinfo>
<sername>Aerial Acquisition</sername>
<issue>Pinellas - 2014</issue>
</serinfo>
<pubinfo>
<pubplace>Brooksville, FL</pubplace>
<publish>Pinellas County Property Appraiser</publish>
</pubinfo>
</citeinfo>
</lworkcit>
</citeinfo>
</srccite>
<srcscale>1200</srcscale>
<typesrc>disc</typesrc>
<srctime>
<timeinfo>
<rngdates>
<begdate>20131224</begdate>
<enddate>20140120</enddate>
</rngdates>
</timeinfo>
<srccurr>ground condition</srccurr>
</srctime>
<srccitea>Aerial Imagery</srccitea>
<srccontr>FY2014 Pinellas Aerial Imagery</srccontr>
</srcinfo>
<procstep>
<procdesc>Individual frame cutlines are created using Inpho Ortho software. Polygons are created once the orthophoto has been developed. Frames were merged to create polygons depicting the coverage area flown for each date.</procdesc>
<srcused>withheld</srcused>
<procdate>2014</procdate>
<proccont>
<cntinfo>
<cntperp>
<cntper>Steven Swenson</cntper>
<cntorg>Aerial Cartographics of America, Inc.</cntorg>
</cntperp>
<cntpos>Project Manager</cntpos>
<cntaddr>
<addrtype>mailing and physical address</addrtype>
<address>423 S. Keller Rd, Suite 300</address>
<city>Orlando</city>
<state>FL</state>
<postal>32810</postal>
<country>USA</country>
</cntaddr>
<cntvoice>(407) 851-7880</cntvoice>
<hours>8:00 a.m. to 5:00 p.m.</hours>
</cntinfo>
</proccont>
</procstep>
</lineage>
</dataqual>
<spdoinfo>
<direct>Vector</direct>
<ptvctinf>
<sdtsterm>
<sdtstype>G-polygon</sdtstype>
<ptvctcnt>1763</ptvctcnt>
</sdtsterm>
</ptvctinf>
</spdoinfo>
<spref>
<horizsys>
<planar>
<planci>
<plance>coordinate pair</plance>
<coordrep>
<absres>0.000328</absres>
<ordres>0.000328</ordres>
</coordrep>
<plandu>survey feet</plandu>
</planci>
</planar>
<geodetic>
<horizdn>D_NAD_1983_NSRS2007</horizdn>
<ellips>Geodetic Reference System 80</ellips>
<semiaxis>6378137.000000</semiaxis>
<denflat>298.257222</denflat>
</geodetic>
</horizsys>
<vertdef>
<altsys>
<altdatum>North American Vertical Datum of 1988</altdatum>
<altres>0.1</altres>
<altunits>feet</altunits>
<altenc>Explicit elevation coordinate included with horizontal coordinates</altenc>
</altsys>
</vertdef>
</spref>
<eainfo>
<detailed>
<enttyp>
<enttypl>FLIGHTDATE</enttypl>
<enttypd>Date the area was flown</enttypd>
<enttypds>Pinellas County Property Appraiser</enttypds>
</enttyp>
<attr>
<attrlabl>Shape</attrlabl>
<attrdef>Feature geometry.</attrdef>
<attrdefs>ESRI</attrdefs>
<attrdomv>
<udom>Coordinates defining the features.</udom>
</attrdomv>
</attr>
<attr>
<attrlabl>FLIGHTDATE</attrlabl>
<attrdef>Date the area was flown</attrdef>
<attrdefs>Pinellas County Property Appraiser</attrdefs>
<attrdomv>
<udom>Positive real numbers that are automatically generated.</udom>
</attrdomv>
</attr>
<attr>
<attrlabl>OBJECTID</attrlabl>
<attrdef>Internal feature number.</attrdef>
<attrdefs>ESRI</attrdefs>
<attrdomv>
<udom>Positive real numbers that are automatically generated.</udom>
</attrdomv>
</attr>
</detailed>
<overview>
<eaover>Entity and Attribute information designed in accordance to SWFWMD Orthophotos Specifications.</eaover>
<eadetcit>Entity and Attribute information designed in accordance to SWFWMD Orthophotos Specifications.</eadetcit>
</overview>
</eainfo>
<distinfo>
<distrib>
<cntinfo>
<cntperp>
<cntper>Property Appraiser</cntper>
<cntorg>Pinellas County Property Appraiser</cntorg>
</cntperp>
<cntaddr>
<addrtype>mailing and physical address</addrtype>
<address>PO Box 1957</address>
<city>Clearwater</city>
<state>FL</state>
<postal>33757-1957</postal>
<country>USA</country>
</cntaddr>
<cntvoice>(727) 464-3840</cntvoice>
<hours>8:00 a.m. to 5:00 p.m.</hours>
</cntinfo>
</distrib>
<resdesc>The data is provided on an 'as is' basis. The County specifically disclaims any warranty, expressed or implied, including, but not limited to, the implied warranties or merchantability and fitness for a particular use. The entire risk as to quality and performance is with the use. In no event will the County or its staff be liable for any direct, indirect, incidental, specilal, consequential, or other damages, including loss of profit, arising out of the use of this data even if the District has been advised of the possibility of such damages. All data are intended for resource management use.</resdesc>
<distliab>Translation of files to formats other than those described here is sole responsibility of individuals using the data.</distliab>
<stdorder>
<digform>
<digtinfo>
<formname>Shapefile</formname>
<transize>5</transize>
</digtinfo>
<digtopt>
<offoptn>
<offmedia>CD-ROM</offmedia>
<recfmt>Digital</recfmt>
</offoptn>
</digtopt>
</digform>
<fees>$0</fees>
<ordering>Contact Pinellas County Property Appraiser</ordering>
<turnarnd>1 week</turnarnd>
</stdorder>
<custom>Contact Pinellas County Property Appraiser</custom>
<techpreq>None</techpreq>
</distinfo>
<metainfo>
<metd>2014</metd>
<metc>
<cntinfo>
<cntorgp>
<cntorg>Pinellas County Property Appraiser</cntorg>
<cntper>Property Appraiser</cntper>
</cntorgp>
<cntaddr>
<addrtype>mailing address</addrtype>
<address>PO Box 1957</address>
<city>Clearwater</city>
<state>FL</state>
<postal>33757-1957</postal>
<country>USA</country>
</cntaddr>
<cntvoice>(727) 464-3840</cntvoice>
<cntfax>(727) 464-3448</cntfax>
<hours>8:00 a.m. to 5:00 p.m.</hours>
</cntinfo>
</metc>
<metstdn>FGDC Content Standards for Digital Geospatial Metadata</metstdn>
<metstdv>FGDC-STD-001-1998</metstdv>
<mettc>local time</mettc>
<metextns>
<onlink>http://www.esri.com/metadata/esriprof80.html</onlink>
<metprof>ESRI Metadata Profile</metprof>
</metextns>
</metainfo>
<dataIdInfo>
<envirDesc Sync="TRUE"> Version 6.2 (Build 9200) ; Esri ArcGIS 10.6.1.9328</envirDesc>
<dataLang>
<languageCode Sync="TRUE" value="eng">
</languageCode>
<countryCode Sync="TRUE" value="USA">
</countryCode>
</dataLang>
<idCitation>
<resTitle Sync="TRUE">Aerials2014</resTitle>
<presForm>
<PresFormCd Sync="TRUE" value="005">
</PresFormCd>
</presForm>
</idCitation>
<spatRpType>
<SpatRepTypCd Sync="TRUE" value="002">
</SpatRepTypCd>
</spatRpType>
<dataExt>
<geoEle>
<GeoBndBox esriExtentType="search">
<exTypeCode Sync="TRUE">1</exTypeCode>
<westBL Sync="TRUE">-82.872773</westBL>
<eastBL Sync="TRUE">-82.559189</eastBL>
<northBL Sync="TRUE">28.183941</northBL>
<southBL Sync="TRUE">27.563492</southBL>
</GeoBndBox>
</geoEle>
</dataExt>
<idAbs>This feature class accompanied the FY2014 Orthophotos for the Pinellas project area. The polygons delineate image capture dates used to seam together flight lines for the production of orthophotos.. The flight acquisition period for the Pinellas project area was from Dec. 24, 2013 to Jan. 20, 2014, Four flight dates are delineated in the image cutline.</idAbs>
<searchKeys>
<keyword>Florida</keyword>
<keyword>Pinellas</keyword>
<keyword>Flight Dates</keyword>
<keyword>Seamline</keyword>
<keyword>Cutline</keyword>
</searchKeys>
<idPurp>The purpose of this feature class is to identify the flight dates for the project area.</idPurp>
<idCredit/>
<resConst>
<Consts>
<useLimit/>
</Consts>
</resConst>
</dataIdInfo>
<mdLang>
<languageCode Sync="TRUE" value="eng">
</languageCode>
<countryCode Sync="TRUE" value="USA">
</countryCode>
</mdLang>
<Esri>
<DataProperties>
<itemProps>
<itemName Sync="TRUE">Aerials2014</itemName>
<nativeExtBox>
<westBL Sync="TRUE">375001.115160</westBL>
<eastBL Sync="TRUE">475001.115160</eastBL>
<southBL Sync="TRUE">1174998.077011</southBL>
<northBL Sync="TRUE">1399998.077011</northBL>
<exTypeCode Sync="TRUE">1</exTypeCode>
</nativeExtBox>
</itemProps>
<coordRef>
<type Sync="TRUE">Projected</type>
<geogcsn Sync="TRUE">GCS_NAD_1983_2011</geogcsn>
<csUnits Sync="TRUE">Linear Unit: Foot_US (0.304801)</csUnits>
<projcsn Sync="TRUE">NAD_1983_2011_StatePlane_Florida_West_FIPS_0902_Ft_US</projcsn>
<peXml Sync="TRUE">&lt;ProjectedCoordinateSystem xsi:type='typens:ProjectedCoordinateSystem' xmlns:xsi='http://www.w3.org/2001/XMLSchema-instance' xmlns:xs='http://www.w3.org/2001/XMLSchema' xmlns:typens='http://www.esri.com/schemas/ArcGIS/10.6'&gt;&lt;WKT&gt;PROJCS[&amp;quot;NAD_1983_2011_StatePlane_Florida_West_FIPS_0902_Ft_US&amp;quot;,GEOGCS[&amp;quot;GCS_NAD_1983_2011&amp;quot;,DATUM[&amp;quot;D_NAD_1983_2011&amp;quot;,SPHEROID[&amp;quot;GRS_1980&amp;quot;,6378137.0,298.257222101]],PRIMEM[&amp;quot;Greenwich&amp;quot;,0.0],UNIT[&amp;quot;Degree&amp;quot;,0.0174532925199433]],PROJECTION[&amp;quot;Transverse_Mercator&amp;quot;],PARAMETER[&amp;quot;False_Easting&amp;quot;,656166.6666666665],PARAMETER[&amp;quot;False_Northing&amp;quot;,0.0],PARAMETER[&amp;quot;Central_Meridian&amp;quot;,-82.0],PARAMETER[&amp;quot;Scale_Factor&amp;quot;,0.9999411764705882],PARAMETER[&amp;quot;Latitude_Of_Origin&amp;quot;,24.33333333333333],UNIT[&amp;quot;Foot_US&amp;quot;,0.3048006096012192],AUTHORITY[&amp;quot;EPSG&amp;quot;,6443]]&lt;/WKT&gt;&lt;XOrigin&gt;-17791300&lt;/XOrigin&gt;&lt;YOrigin&gt;-41645400&lt;/YOrigin&gt;&lt;XYScale&gt;137249422.94257641&lt;/XYScale&gt;&lt;ZOrigin&gt;-100000&lt;/ZOrigin&gt;&lt;ZScale&gt;10000&lt;/ZScale&gt;&lt;MOrigin&gt;-100000&lt;/MOrigin&gt;&lt;MScale&gt;10000&lt;/MScale&gt;&lt;XYTolerance&gt;0.0032808333333333331&lt;/XYTolerance&gt;&lt;ZTolerance&gt;0.001&lt;/ZTolerance&gt;&lt;MTolerance&gt;0.001&lt;/MTolerance&gt;&lt;HighPrecision&gt;true&lt;/HighPrecision&gt;&lt;WKID&gt;103023&lt;/WKID&gt;&lt;LatestWKID&gt;6443&lt;/LatestWKID&gt;&lt;/ProjectedCoordinateSystem&gt;</peXml>
</coordRef>
<RasterProperties>
<General>
<PixelDepth Sync="TRUE">8</PixelDepth>
<HasColormap Sync="TRUE">FALSE</HasColormap>
<CompressionType Sync="TRUE">None</CompressionType>
<NumBands Sync="TRUE">4</NumBands>
<Format Sync="TRUE">AMD</Format>
<HasPyramids Sync="TRUE">TRUE</HasPyramids>
<SourceType Sync="TRUE">continuous</SourceType>
<PixelType Sync="TRUE">unsigned integer</PixelType>
<NoDataValue Sync="TRUE">
</NoDataValue>
</General>
<Properties>
<MaxImageHeight Sync="TRUE">4100</MaxImageHeight>
<MaxImageWidth Sync="TRUE">15000</MaxImageWidth>
<MaxRecordCount Sync="TRUE">1000</MaxRecordCount>
<MaxDownloadImageCount Sync="TRUE">20</MaxDownloadImageCount>
<MaxDownloadSizeLimit Sync="TRUE">2048</MaxDownloadSizeLimit>
<MaxMosaicImageCount Sync="TRUE">43</MaxMosaicImageCount>
<DefaultCompressionQuality Sync="TRUE">75</DefaultCompressionQuality>
<DefaultCompressionTolerance Sync="TRUE">0.01</DefaultCompressionTolerance>
<BlendWidth Sync="TRUE">10</BlendWidth>
<ViewpointSpacingX Sync="TRUE">600</ViewpointSpacingX>
<ViewpointSpacingY Sync="TRUE">300</ViewpointSpacingY>
<AllowedItemMetadata Sync="TRUE">Basic</AllowedItemMetadata>
<DefaultResamplingMethod Sync="TRUE">1</DefaultResamplingMethod>
<AllowedMosaicMethods Sync="TRUE">NorthWest,Center,LockRaster,ByAttribute,Nadir,Viewpoint,Seamline,None</AllowedMosaicMethods>
<AllowedCompressions Sync="TRUE">None,JPEG,LZ77,LERC</AllowedCompressions>
<AllowedMensurationCapabilities Sync="TRUE">Basic</AllowedMensurationCapabilities>
<AvailableMensurationCapabilities Sync="TRUE">None,Basic,Base-Top Height,Top-Top Shadow Height,Base-Top Shadow Height,3D</AvailableMensurationCapabilities>
<ClipToBoundary Sync="TRUE">-1</ClipToBoundary>
<FootprintMayContainNoData Sync="TRUE">-1</FootprintMayContainNoData>
<CellSizeTolerance Sync="TRUE">0.8</CellSizeTolerance>
<MinimumPixelContribution Sync="TRUE">1</MinimumPixelContribution>
<AvailableMosaicMethods Sync="TRUE">NorthWest,Center,LockRaster,ByAttribute,Nadir,Viewpoint,Seamline,None</AvailableMosaicMethods>
<AvailableCompressionMethods Sync="TRUE">None,JPEG,LZ77,LERC</AvailableCompressionMethods>
<AvailableItemMetadataLevels Sync="TRUE">None,Basic,Full</AvailableItemMetadataLevels>
<ConfigKeyword Sync="TRUE">
</ConfigKeyword>
<BandDefinitionKeyword Sync="TRUE">NONE</BandDefinitionKeyword>
<AllowedFields Sync="TRUE">Name,MinPS,MaxPS,LowPS,HighPS,Tag,GroupName,ProductName,CenterX,CenterY,ZOrder,Shape_Length,Shape_Area,Thumbnail</AllowedFields>
<MaxCellSize Sync="TRUE">24300</MaxCellSize>
<LowCellSize Sync="TRUE">0.5</LowCellSize>
<HighCellSize Sync="TRUE">486</HighCellSize>
<ApplyColorCorrection Sync="TRUE">0</ApplyColorCorrection>
<TimeValueFormat Sync="TRUE">
</TimeValueFormat>
<EndTimeFieldName Sync="TRUE">
</EndTimeFieldName>
<StartTimeFieldName Sync="TRUE">
</StartTimeFieldName>
<TimeIntervalUnits Sync="TRUE">
</TimeIntervalUnits>
<TimeInterval Sync="TRUE">
</TimeInterval>
<VerticalDimension Sync="TRUE">
</VerticalDimension>
<FlowDirection Sync="TRUE">
</FlowDirection>
<MosaicOperator Sync="TRUE">1</MosaicOperator>
<BlendWidthUnits Sync="TRUE">1</BlendWidthUnits>
<UseTime Sync="TRUE">0</UseTime>
<SortAscending Sync="TRUE">-1</SortAscending>
<ClipToFootprint Sync="TRUE">0</ClipToFootprint>
<SortField Sync="TRUE">Name</SortField>
<SortValue Sync="TRUE">0</SortValue>
</Properties>
<Functions Sync="TRUE">
<Function Description="Performs on-the-fly mosaic on a raster catalog." Name="Mosaic Function">
</Function>
</Functions>
</RasterProperties>
</DataProperties>
<SyncDate>20200130</SyncDate>
<SyncTime>10303000</SyncTime>
<ModDate>20200130</ModDate>
<ModTime>10303000</ModTime>
</Esri>
<refSysInfo>
<RefSystem>
<refSysID>
<identCode Sync="TRUE" code="6443">
</identCode>
<idCodeSpace Sync="TRUE">EPSG</idCodeSpace>
<idVersion Sync="TRUE">8.9.3(10.3.1)</idVersion>
</refSysID>
</RefSystem>
</refSysInfo>
<spatRepInfo>
<Georect>
<cellGeo>
<CellGeoCd Sync="TRUE" value="002">
</CellGeoCd>
</cellGeo>
<numDims Sync="TRUE">2</numDims>
<tranParaAv Sync="TRUE">1</tranParaAv>
<chkPtAv Sync="TRUE">0</chkPtAv>
<cornerPts>
<pos Sync="TRUE">375001.115160 1174998.077011</pos>
</cornerPts>
<cornerPts>
<pos Sync="TRUE">375001.115160 1399998.077011</pos>
</cornerPts>
<cornerPts>
<pos Sync="TRUE">475001.115160 1399998.077011</pos>
</cornerPts>
<cornerPts>
<pos Sync="TRUE">475001.115160 1174998.077011</pos>
</cornerPts>
<centerPt>
<pos Sync="TRUE">425001.115160 1287498.077011</pos>
</centerPt>
<axisDimension type="002">
<dimSize Sync="TRUE">200000</dimSize>
<dimResol>
<value Sync="TRUE" uom="ftUS">0.500000</value>
</dimResol>
</axisDimension>
<axisDimension type="001">
<dimSize Sync="TRUE">450000</dimSize>
<dimResol>
<value Sync="TRUE" uom="ftUS">0.500000</value>
</dimResol>
</axisDimension>
<ptInPixel>
<PixOrientCd Sync="TRUE" value="001">
</PixOrientCd>
</ptInPixel>
</Georect>
</spatRepInfo>
<contInfo>
<ImgDesc>
<contentTyp>
<ContentTypCd Sync="TRUE" value="001">
</ContentTypCd>
</contentTyp>
<covDim>
<Band>
<dimDescrp Sync="TRUE">Band_1</dimDescrp>
<maxVal Sync="TRUE">255.000000</maxVal>
<minVal Sync="TRUE">1.000000</minVal>
<bitsPerVal Sync="TRUE">8</bitsPerVal>
<valUnit>
<UOM type="length">
</UOM>
</valUnit>
</Band>
<Band>
<dimDescrp Sync="TRUE">Band_2</dimDescrp>
<maxVal Sync="TRUE">255.000000</maxVal>
<minVal Sync="TRUE">7.000000</minVal>
<bitsPerVal Sync="TRUE">8</bitsPerVal>
<valUnit>
<UOM type="length">
</UOM>
</valUnit>
</Band>
<Band>
<dimDescrp Sync="TRUE">Band_3</dimDescrp>
<maxVal Sync="TRUE">255.000000</maxVal>
<minVal Sync="TRUE">28.000000</minVal>
<bitsPerVal Sync="TRUE">8</bitsPerVal>
<valUnit>
<UOM type="length">
</UOM>
</valUnit>
</Band>
<Band>
<dimDescrp Sync="TRUE">Band_4</dimDescrp>
<maxVal Sync="TRUE">255.000000</maxVal>
<minVal Sync="TRUE">0.000000</minVal>
<bitsPerVal Sync="TRUE">8</bitsPerVal>
<valUnit>
<UOM type="length">
</UOM>
</valUnit>
</Band>
</covDim>
</ImgDesc>
</contInfo>
<mdDateSt Sync="TRUE">20200130</mdDateSt>
</metadata>
