<?xml version="1.0" encoding="UTF-8" standalone="no"?>
<metadata>
<idinfo>
<citation>
<citeinfo>
<origin>Surdex Corporation</origin>
<pubdate>unknown</pubdate>
<title>OP2017_436692_32.tif</title>
<geoform>remote-sensing image</geoform>
</citeinfo>
</citation>
<descript>
<abstract>Digital orthophotography produced from new aerial photography collected beginning December 15, 2016 with a preferred collection end date prior to February 28, 2017 as requested by the Southwest Florida Water Management District Office. Acquired imagery took place in mid December 2016 and was comepleted early February 2017 and is in 4 band, RGB and Near Infrared, 8 bit per channel for 32 bit format. This image data set of 6 inch resolution covers the entire Southwest Florida Management District including the entirety of Polk and Charlotte Counties plus a small perimeter buffer.</abstract>
<purpose>To assist the District Office in providing aerial photography and rectified Orthophotograpy as a raster base map for all mapping and GIS efforts.</purpose>
</descript>
<timeperd>
<timeinfo>
<mdattim>
<sngdate>
<caldate>20170111</caldate>
<time>unknown</time>
</sngdate>
<sngdate>
<caldate>20170208</caldate>
<time>unknown</time>
</sngdate>
<sngdate>
<caldate>20170210</caldate>
<time>unknown</time>
</sngdate>
<sngdate>
<caldate>20161226</caldate>
<time>unknown</time>
</sngdate>
<sngdate>
<caldate>20161229</caldate>
<time>unknown</time>
</sngdate>
<sngdate>
<caldate>20161227</caldate>
<time>unknown</time>
</sngdate>
<sngdate>
<caldate>20170106</caldate>
<time>unknown</time>
</sngdate>
<sngdate>
<caldate>20161231</caldate>
<time>unknown</time>
</sngdate>
<sngdate>
<caldate>20170109</caldate>
<time>unknown</time>
</sngdate>
<sngdate>
<caldate>20161230</caldate>
<time>unknown</time>
</sngdate>
<sngdate>
<caldate>20170101</caldate>
<time>unknown</time>
</sngdate>
<sngdate>
<caldate>20170112</caldate>
<time>unknown</time>
</sngdate>
<sngdate>
<caldate>20170202</caldate>
<time>unknown</time>
</sngdate>
<sngdate>
<caldate>20170125</caldate>
<time>unknown</time>
</sngdate>
<sngdate>
<caldate>20170117</caldate>
<time>unknown</time>
</sngdate>
<sngdate>
<caldate>20170120</caldate>
<time>unknown</time>
</sngdate>
<sngdate>
<caldate>20170119</caldate>
<time>unknown</time>
</sngdate>
<sngdate>
<caldate>20170124</caldate>
<time>unknown</time>
</sngdate>
<sngdate>
<caldate>20170108</caldate>
<time>unknown</time>
</sngdate>
<sngdate>
<caldate>20170205</caldate>
<time>unknown</time>
</sngdate>
<sngdate>
<caldate>20170121</caldate>
<time>unknown</time>
</sngdate>
<sngdate>
<caldate>20170131</caldate>
<time>unknown</time>
</sngdate>
<sngdate>
<caldate>20161216</caldate>
<time>unknown</time>
</sngdate>
<sngdate>
<caldate>20161223</caldate>
<time>unknown</time>
</sngdate>
<sngdate>
<caldate>20170207</caldate>
<time>unknown</time>
</sngdate>
<sngdate>
<caldate>20170201</caldate>
<time>unknown</time>
</sngdate>
<sngdate>
<caldate>20161224</caldate>
<time>unknown</time>
</sngdate>
<sngdate>
<caldate>20170104</caldate>
<time>unknown</time>
</sngdate>
<sngdate>
<caldate>20170110</caldate>
<time>unknown</time>
</sngdate>
</mdattim>
</timeinfo>
<current>ground condition</current>
</timeperd>
<status>
<progress>Complete</progress>
<update>As needed</update>
</status>
<spdom>
<bounding>
<westbc>-82.632565</westbc>
<eastbc>-82.616760</eastbc>
<northbc>29.531287</northbc>
<southbc>29.517464</southbc>
</bounding>
</spdom>
<keywords>
<theme>
<themekt>Digital Imagery</themekt>
<themekey>Orthophotography</themekey>
<themekey>2017</themekey>
<themekey>Leaf-off</themekey>
</theme>
<place>
<placekt>Southwest Florida</placekt>
<placekey>Florida</placekey>
</place>
<temporal>
<tempkt>N/A</tempkt>
<tempkey>Spring</tempkey>
</temporal>
</keywords>
<accconst>Unknown to the vendor supplying the finished product.</accconst>
<useconst>Unknown to the vendor supplying the finished product.</useconst>
<ptcontac>
<cntinfo>
<cntorgp>
<cntorg>SWFWMD</cntorg>
<cntper>Al Karlin</cntper>
</cntorgp>
<cntaddr>
<addrtype>mailing and physical</addrtype>
<address>Southwest Florida Water Management District</address>
<address>2379 Broad Street</address>
<city>Brooksville</city>
<state>FL</state>
<postal>34604</postal>
<country>US</country>
</cntaddr>
<cntvoice>(352) 796-7211</cntvoice>
</cntinfo>
</ptcontac>
<native> Version 6.2 (Build 9200) ; Esri ArcGIS 10.5.0.6491</native>
</idinfo>
<dataqual>
<logic>None</logic>
<complete>Complete</complete>
<posacc>
<horizpa>
<horizpar>Meets ASPRS Postional Accuracy Standards. Meets 51.9 cm at the 95% CI (15cm RMSEx and 15cm RMSEy; 21cm RMSEr)with an Orthoimagery Mosaic Seamline Mismatch less than 42.4 cm. Surdex collected Airborne GPS data at the time of image acquisition and was used to supplement the provided ground control which wa used to control the product to ground coordinates.</horizpar>
<qhorizpa>
<horizpav>1.0 ft.</horizpav>
<horizpae>Meets ASPRS Positional Accuracy Standards for Digital Geospatial Data.</horizpae>
</qhorizpa>
</horizpa>
<vertacc>
<vertaccr>None - this is a horizontal only product.</vertaccr>
</vertacc>
</posacc>
<lineage>
<srcinfo>
<srccite>
<citeinfo>
<origin>SURDEX Corporation</origin>
<pubdate>unknown</pubdate>
<title>Four Band Digital Orthophotography tiff files.</title>
</citeinfo>
</srccite>
<srcscale>1200</srcscale>
<typesrc>hardDisk</typesrc>
<srctime>
<timeinfo>
<rngdates>
<begdate>20161216</begdate>
<begtime>unknown</begtime>
<enddate>20170210</enddate>
<endtime>unknown</endtime>
</rngdates>
</timeinfo>
<srccurr>ground condition</srccurr>
</srctime>
<srccitea>Leica ADS</srccitea>
<srccontr>Aerial photography captured with a Leica ADS100 Digital Mapping Camera</srccontr>
</srcinfo>
<procstep>
<procdesc>Aircraft was deployed to South Central Florida in mid December 2016 for digital image acquistion during a requested time frame. A Cessna Conquest equipped with a Leica ADS100(Digital Mapping Camera) captured 4 band imagery over the entire project area of interest. Imagery was captured at an altittude of 6,100' above mean terrain, not allowing for cloudy conditions. Four bands (rgb natural color and color infrared) of raw camera data were processed by Surdex using Leica X Pro software coupled with Surdex proprietary image handling software for color correction and dodging. Post processing of Airborne and Ground GPS data was performed with Waypoint Consulting's GrafNav software. Aerial Triangulation was completed using Leica X Pro Automatic Triangulation and rectification of imagery to the client supplied DEM was completed using Surdex proprietary software . Image mosaicking, QC and final tiled products were produced using proprietary Surdex software.</procdesc>
<procdate>unknown</procdate>
<proccont>
<cntinfo>
<cntorgp>
<cntorg>SURDEX Corporation</cntorg>
<cntper>Jim Gottgetreu</cntper>
</cntorgp>
<cntpos>Project Management</cntpos>
<cntaddr>
<addrtype>mailing and physical</addrtype>
<address>520 Spirit of Saint Louis Boulevard</address>
<city>Chesterfield</city>
<state>MO</state>
<postal>63005</postal>
</cntaddr>
<cntvoice>636-368-4456</cntvoice>
</cntinfo>
</proccont>
</procstep>
</lineage>
</dataqual>
<spdoinfo>
<direct>Raster</direct>
<rastinfo>
<rasttype>Pixel</rasttype>
<rowcount>10000</rowcount>
<colcount>10000</colcount>
</rastinfo>
</spdoinfo>
<spref>
<horizsys>
<planar>
<planci>
<plance>coordinate pair</plance>
<coordrep>
<absres>0.000000007286005132556284</absres>
<ordres>0.000000007286005132556284</ordres>
</coordrep>
<plandu>foot_us</plandu>
</planci>
</planar>
<geodetic>
<horizdn>D North American 1983</horizdn>
<ellips>GRS 1980</ellips>
<semiaxis>6378137.0</semiaxis>
<denflat>298.257222101</denflat>
</geodetic>
</horizsys>
</spref>
<distinfo>
<distrib>
<cntinfo>
<cntorgp>
<cntorg>SWFWMD</cntorg>
<cntper>Al Karlin</cntper>
</cntorgp>
<cntaddr>
<addrtype>mailing and physical</addrtype>
<address>Southwest Florida Water Management District</address>
<address>2379 Broad Street</address>
<city>Brooksville</city>
<state>FL</state>
<postal>34604</postal>
<country>US</country>
</cntaddr>
<cntvoice>(352) 796-7211</cntvoice>
</cntinfo>
</distrib>
<distliab>Unknown</distliab>
<stdorder>
<digform>
<digtinfo>
<formname>TIFF</formname>
<formvern>Unknown</formvern>
<formspec>Unknown</formspec>
<filedec>Data size of hard drive deliverable is 3.4TB</filedec>
<transize>3415</transize>
</digtinfo>
<digtopt>
<offoptn>
<offmedia>HD</offmedia>
<recfmt>NTFS</recfmt>
</offoptn>
</digtopt>
</digform>
<fees>0</fees>
<ordering>Please contact Al Karlin</ordering>
</stdorder>
<availabl>
<timeinfo>
<sngdate>
<caldate>20161216</caldate>
<time>unknown</time>
</sngdate>
</timeinfo>
</availabl>
</distinfo>
<metainfo>
<metd>20170820</metd>
<metc>
<cntinfo>
<cntorgp>
<cntorg>SURDEX Corporation</cntorg>
<cntper>Jim Gottgetreu</cntper>
</cntorgp>
<cntpos>Project Manager</cntpos>
<cntaddr>
<addrtype>mailing and physical</addrtype>
<address>520 Spirit of Saint Louis Boulevard</address>
<city>Chesterfield</city>
<state>MO</state>
<postal>63005</postal>
<country>US</country>
</cntaddr>
<cntvoice>636-368-4456</cntvoice>
<cntemail>jimgsurdex.com</cntemail>
</cntinfo>
</metc>
<metstdn>FGDC Content Standard for Digital Geospatial Metadata</metstdn>
<metstdv>FGDC-STD-001-1998</metstdv>
<mettc>local time</mettc>
</metainfo>
<dataIdInfo>
<envirDesc Sync="TRUE"> Version 6.2 (Build 9200) ; Esri ArcGIS 10.6.1.9328</envirDesc>
<dataLang>
<languageCode Sync="TRUE" value="eng">
</languageCode>
<countryCode Sync="TRUE" value="USA">
</countryCode>
</dataLang>
<idCitation>
<resTitle Sync="TRUE">Aerials2017</resTitle>
<presForm>
<PresFormCd Sync="TRUE" value="005">
</PresFormCd>
</presForm>
</idCitation>
<spatRpType>
<SpatRepTypCd Sync="TRUE" value="002">
</SpatRepTypCd>
</spatRpType>
<dataExt>
<geoEle>
<GeoBndBox esriExtentType="search">
<exTypeCode Sync="TRUE">1</exTypeCode>
<westBL Sync="TRUE">-82.872668</westBL>
<eastBL Sync="TRUE">-82.559266</eastBL>
<northBL Sync="TRUE">28.170199</northBL>
<southBL Sync="TRUE">27.577255</southBL>
</GeoBndBox>
</geoEle>
</dataExt>
<idAbs>Digital orthophotography produced from new aerial photography collected beginning December 15, 2016 with a preferred collection end date prior to February 28, 2017 as requested by the Southwest Florida Water Management District Office. Acquired imagery took place in mid December 2016 and was comepleted early February 2017 and is in 4 band, RGB and Near Infrared, 8 bit per channel for 32 bit format. This image data set of 6 inch resolution covers the entire Southwest Florida Management District including the entirety of Polk and Charlotte Counties plus a small perimeter buffer.</idAbs>
<searchKeys>
<keyword>Florida</keyword>
<keyword>Orthophotography</keyword>
<keyword>2017</keyword>
<keyword>Leaf-off</keyword>
</searchKeys>
<idPurp>To assist the District Office in providing aerial photography and rectified Orthophotograpy as a raster base map for all mapping and GIS efforts.</idPurp>
<idCredit/>
<resConst>
<Consts>
<useLimit/>
</Consts>
</resConst>
</dataIdInfo>
<mdLang>
<languageCode Sync="TRUE" value="eng">
</languageCode>
<countryCode Sync="TRUE" value="USA">
</countryCode>
</mdLang>
<Esri>
<DataProperties>
<itemProps>
<itemName Sync="TRUE">Aerials2017</itemName>
<nativeExtBox>
<westBL Sync="TRUE">374998.876647</westBL>
<eastBL Sync="TRUE">474998.876647</eastBL>
<southBL Sync="TRUE">1180001.904260</southBL>
<northBL Sync="TRUE">1395001.904260</northBL>
<exTypeCode Sync="TRUE">1</exTypeCode>
</nativeExtBox>
</itemProps>
<coordRef>
<type Sync="TRUE">Projected</type>
<geogcsn Sync="TRUE">GCS_North_American_1983_HARN</geogcsn>
<csUnits Sync="TRUE">Linear Unit: Foot_US (0.304801)</csUnits>
<projcsn Sync="TRUE">NAD_1983_HARN_StatePlane_Florida_West_FIPS_0902_Feet</projcsn>
<peXml Sync="TRUE">&lt;ProjectedCoordinateSystem xsi:type='typens:ProjectedCoordinateSystem' xmlns:xsi='http://www.w3.org/2001/XMLSchema-instance' xmlns:xs='http://www.w3.org/2001/XMLSchema' xmlns:typens='http://www.esri.com/schemas/ArcGIS/10.6'&gt;&lt;WKT&gt;PROJCS[&amp;quot;NAD_1983_HARN_StatePlane_Florida_West_FIPS_0902_Feet&amp;quot;,GEOGCS[&amp;quot;GCS_North_American_1983_HARN&amp;quot;,DATUM[&amp;quot;D_North_American_1983_HARN&amp;quot;,SPHEROID[&amp;quot;GRS_1980&amp;quot;,6378137.0,298.257222101]],PRIMEM[&amp;quot;Greenwich&amp;quot;,0.0],UNIT[&amp;quot;Degree&amp;quot;,0.0174532925199433]],PROJECTION[&amp;quot;Transverse_Mercator&amp;quot;],PARAMETER[&amp;quot;False_Easting&amp;quot;,656166.6666666665],PARAMETER[&amp;quot;False_Northing&amp;quot;,0.0],PARAMETER[&amp;quot;Central_Meridian&amp;quot;,-82.0],PARAMETER[&amp;quot;Scale_Factor&amp;quot;,0.9999411764705882],PARAMETER[&amp;quot;Latitude_Of_Origin&amp;quot;,24.33333333333333],UNIT[&amp;quot;Foot_US&amp;quot;,0.3048006096012192],AUTHORITY[&amp;quot;EPSG&amp;quot;,2882]]&lt;/WKT&gt;&lt;XOrigin&gt;-17791300&lt;/XOrigin&gt;&lt;YOrigin&gt;-41645400&lt;/YOrigin&gt;&lt;XYScale&gt;137249422.94257641&lt;/XYScale&gt;&lt;ZOrigin&gt;-100000&lt;/ZOrigin&gt;&lt;ZScale&gt;10000&lt;/ZScale&gt;&lt;MOrigin&gt;-100000&lt;/MOrigin&gt;&lt;MScale&gt;10000&lt;/MScale&gt;&lt;XYTolerance&gt;0.0032808333333333331&lt;/XYTolerance&gt;&lt;ZTolerance&gt;0.001&lt;/ZTolerance&gt;&lt;MTolerance&gt;0.001&lt;/MTolerance&gt;&lt;HighPrecision&gt;true&lt;/HighPrecision&gt;&lt;WKID&gt;2882&lt;/WKID&gt;&lt;LatestWKID&gt;2882&lt;/LatestWKID&gt;&lt;/ProjectedCoordinateSystem&gt;</peXml>
</coordRef>
<RasterProperties>
<General>
<PixelDepth Sync="TRUE">8</PixelDepth>
<HasColormap Sync="TRUE">FALSE</HasColormap>
<CompressionType Sync="TRUE">None</CompressionType>
<NumBands Sync="TRUE">4</NumBands>
<Format Sync="TRUE">AMD</Format>
<HasPyramids Sync="TRUE">TRUE</HasPyramids>
<SourceType Sync="TRUE">continuous</SourceType>
<PixelType Sync="TRUE">unsigned integer</PixelType>
<NoDataValue Sync="TRUE">
</NoDataValue>
</General>
<Properties>
<MaxImageHeight Sync="TRUE">4100</MaxImageHeight>
<MaxImageWidth Sync="TRUE">15000</MaxImageWidth>
<MaxRecordCount Sync="TRUE">1000</MaxRecordCount>
<MaxDownloadImageCount Sync="TRUE">20</MaxDownloadImageCount>
<MaxDownloadSizeLimit Sync="TRUE">2048</MaxDownloadSizeLimit>
<MaxMosaicImageCount Sync="TRUE">20</MaxMosaicImageCount>
<DefaultCompressionQuality Sync="TRUE">75</DefaultCompressionQuality>
<DefaultCompressionTolerance Sync="TRUE">0.01</DefaultCompressionTolerance>
<BlendWidth Sync="TRUE">10</BlendWidth>
<ViewpointSpacingX Sync="TRUE">600</ViewpointSpacingX>
<ViewpointSpacingY Sync="TRUE">300</ViewpointSpacingY>
<AllowedItemMetadata Sync="TRUE">Basic</AllowedItemMetadata>
<DefaultResamplingMethod Sync="TRUE">1</DefaultResamplingMethod>
<AllowedMosaicMethods Sync="TRUE">NorthWest,Center,LockRaster,ByAttribute,Nadir,Viewpoint,Seamline,None</AllowedMosaicMethods>
<AllowedCompressions Sync="TRUE">None,JPEG,LZ77,LERC</AllowedCompressions>
<AllowedMensurationCapabilities Sync="TRUE">Basic</AllowedMensurationCapabilities>
<AvailableMensurationCapabilities Sync="TRUE">None,Basic,Base-Top Height,Top-Top Shadow Height,Base-Top Shadow Height,3D</AvailableMensurationCapabilities>
<ClipToBoundary Sync="TRUE">-1</ClipToBoundary>
<FootprintMayContainNoData Sync="TRUE">-1</FootprintMayContainNoData>
<CellSizeTolerance Sync="TRUE">0.8</CellSizeTolerance>
<MinimumPixelContribution Sync="TRUE">1</MinimumPixelContribution>
<AvailableMosaicMethods Sync="TRUE">NorthWest,Center,LockRaster,ByAttribute,Nadir,Viewpoint,Seamline,None</AvailableMosaicMethods>
<AvailableCompressionMethods Sync="TRUE">None,JPEG,LZ77,LERC</AvailableCompressionMethods>
<AvailableItemMetadataLevels Sync="TRUE">None,Basic,Full</AvailableItemMetadataLevels>
<BandDefinitionKeyword Sync="TRUE">NONE</BandDefinitionKeyword>
<AllowedFields Sync="TRUE">Name,MinPS,MaxPS,LowPS,HighPS,Tag,GroupName,ProductName,CenterX,CenterY,ZOrder,Shape_Length,Shape_Area,Thumbnail</AllowedFields>
<MaxCellSize Sync="TRUE">24300</MaxCellSize>
<LowCellSize Sync="TRUE">0.5</LowCellSize>
<HighCellSize Sync="TRUE">486</HighCellSize>
<ApplyColorCorrection Sync="TRUE">0</ApplyColorCorrection>
</Properties>
<Functions Sync="TRUE">
<Function Description="Performs on-the-fly mosaic on a raster catalog." Name="Mosaic Function">
</Function>
</Functions>
</RasterProperties>
</DataProperties>
<SyncDate>20200130</SyncDate>
<SyncTime>09063100</SyncTime>
<ModDate>20200130</ModDate>
<ModTime>09063100</ModTime>
</Esri>
<refSysInfo>
<RefSystem>
<refSysID>
<identCode Sync="TRUE" code="2882">
</identCode>
<idCodeSpace Sync="TRUE">EPSG</idCodeSpace>
<idVersion Sync="TRUE">8.9.3(9.0.0)</idVersion>
</refSysID>
</RefSystem>
</refSysInfo>
<spatRepInfo>
<Georect>
<cellGeo>
<CellGeoCd Sync="TRUE" value="002">
</CellGeoCd>
</cellGeo>
<numDims Sync="TRUE">2</numDims>
<tranParaAv Sync="TRUE">1</tranParaAv>
<chkPtAv Sync="TRUE">0</chkPtAv>
<cornerPts>
<pos Sync="TRUE">374998.876647 1180001.904260</pos>
</cornerPts>
<cornerPts>
<pos Sync="TRUE">374998.876647 1395001.904260</pos>
</cornerPts>
<cornerPts>
<pos Sync="TRUE">474998.876647 1395001.904260</pos>
</cornerPts>
<cornerPts>
<pos Sync="TRUE">474998.876647 1180001.904260</pos>
</cornerPts>
<centerPt>
<pos Sync="TRUE">424998.876647 1287501.904260</pos>
</centerPt>
<axisDimension type="002">
<dimSize Sync="TRUE">200000</dimSize>
<dimResol>
<value Sync="TRUE" uom="ftUS">0.500000</value>
</dimResol>
</axisDimension>
<axisDimension type="001">
<dimSize Sync="TRUE">430000</dimSize>
<dimResol>
<value Sync="TRUE" uom="ftUS">0.500000</value>
</dimResol>
</axisDimension>
<ptInPixel>
<PixOrientCd Sync="TRUE" value="001">
</PixOrientCd>
</ptInPixel>
</Georect>
</spatRepInfo>
<contInfo>
<ImgDesc>
<contentTyp>
<ContentTypCd Sync="TRUE" value="001">
</ContentTypCd>
</contentTyp>
<covDim>
<Band>
<dimDescrp Sync="TRUE">Band_1</dimDescrp>
<maxVal Sync="TRUE">244.000000</maxVal>
<minVal Sync="TRUE">0.000000</minVal>
<bitsPerVal Sync="TRUE">8</bitsPerVal>
<valUnit>
<UOM type="length">
</UOM>
</valUnit>
</Band>
<Band>
<dimDescrp Sync="TRUE">Band_2</dimDescrp>
<maxVal Sync="TRUE">238.000000</maxVal>
<minVal Sync="TRUE">0.000000</minVal>
<bitsPerVal Sync="TRUE">8</bitsPerVal>
<valUnit>
<UOM type="length">
</UOM>
</valUnit>
</Band>
<Band>
<dimDescrp Sync="TRUE">Band_3</dimDescrp>
<maxVal Sync="TRUE">237.000000</maxVal>
<minVal Sync="TRUE">0.000000</minVal>
<bitsPerVal Sync="TRUE">8</bitsPerVal>
<valUnit>
<UOM type="length">
</UOM>
</valUnit>
</Band>
<Band>
<dimDescrp Sync="TRUE">Band_4</dimDescrp>
<maxVal Sync="TRUE">195.000000</maxVal>
<minVal Sync="TRUE">0.000000</minVal>
<bitsPerVal Sync="TRUE">8</bitsPerVal>
<valUnit>
<UOM type="length">
</UOM>
</valUnit>
</Band>
</covDim>
</ImgDesc>
</contInfo>
<mdDateSt Sync="TRUE">20200130</mdDateSt>
</metadata>
