<?xml version="1.0" encoding="UTF-8" standalone="no"?>
<metadata>
<idinfo>
<citation>
<citeinfo>
<origin>Pinellas</origin>
<origin>FL</origin>
<pubdate>20180604</pubdate>
<title>FL Pinellas 2018 Accuplus Project</title>
<geoform>vector digital data</geoform>
<onlink>withheld</onlink>
</citeinfo>
</citation>
<descript>
<abstract>The dataset consists of tiled orthogonal imagery produced from nadir images captured by Pictometry International. Automatic aerial triangulation (AAT) was performed. The triangulated frames were rectified to a LiDAR derived DEM. Mosaicing was performed using an automatic seaming algorithm and manually edited to eliminate seams through elevated features where possible.</abstract>
<purpose>Orthogonal image mosaic to support the needs of FL Pinellas. Other uses expected.</purpose>
</descript>
<timeperd>
<timeinfo>
<rngdates>
<begdate>20180131</begdate>
<enddate>20180418</enddate>
</rngdates>
</timeinfo>
<current>ground condition</current>
</timeperd>
<status>
<progress>Complete</progress>
<update>Unknown</update>
</status>
<spdom>
<bounding>
<westbc>-82.886150</westbc>
<eastbc>-82.545263</eastbc>
<northbc>28.197429</northbc>
<southbc>27.550205</southbc>
</bounding>
</spdom>
<keywords>
<theme>
<themekt>EDI Thesaurus</themekt>
<themekey>Digital Orthophotography</themekey>
</theme>
<place>
<placekt>Geographic Names Index Service</placekt>
<placekey>Pinellas</placekey>
<placekey>FL</placekey>
</place>
<temporal>
<tempkt>None</tempkt>
<tempkey>Current</tempkey>
</temporal>
</keywords>
<accconst>Access to this data is constrained by the license agreements between Pictometry International and FL Pinellas.</accconst>
<useconst>Use of this data is constrained by the license agreements between Pictometry International and FL Pinellas.</useconst>
<ptcontac>
<cntinfo>
<cntorgp>
<cntorg>Pictometry International Corp.</cntorg>
<cntper>Thom S. Salter</cntper>
</cntorgp>
<cntpos>Director, Photogrammetric Production</cntpos>
<cntaddr>
<addrtype>mailing and physical address</addrtype>
<address>25 Methodist Hill Drive</address>
<city>Rochester</city>
<state>New York</state>
<postal>14623</postal>
<country>USA</country>
</cntaddr>
<cntvoice>585-486-0093</cntvoice>
<cntfax>585-486-0098</cntfax>
<hours>0900-1700 EST</hours>
</cntinfo>
</ptcontac>
<native>ESRI ArcCatalog 9.3.1.3000</native>
<crossref>
<citeinfo>
<origin>Pinellas</origin>
<origin>FL</origin>
<pubdate>20180604</pubdate>
<title>FL Pinellas 2018 Accuplus Project</title>
<geoform>vector digital data</geoform>
<onlink>withheld</onlink>
</citeinfo>
</crossref>
</idinfo>
<dataqual>
<logic>Dataset is orthoimagery. Logical consistency is not applicable.</logic>
<complete>The 2018 FL Pinellas Orthogonal data associated with this metadata file completely covers the project-specified boundary.</complete>
<lineage>
<srcinfo>
<srccite>
<citeinfo>
<origin>Pinellas</origin>
<origin>FL</origin>
<pubdate>20180604</pubdate>
<title>FL Pinellas 2018 Accuplus Project</title>
<geoform>vector digital data</geoform>
<onlink>withheld</onlink>
</citeinfo>
</srccite>
<typesrc>disc</typesrc>
<srctime>
<timeinfo>
<rngdates>
<begdate>20180131</begdate>
<enddate>20180418</enddate>
</rngdates>
</timeinfo>
<srccurr>ground condition</srccurr>
</srctime>
<srccitea>disc</srccitea>
<srccontr>N/A</srccontr>
</srcinfo>
<procstep>
<procdesc>GPS/INS processing: Data was post-processed using NGS CORS base station data.</procdesc>
<procdate>Unknown</procdate>
<proccont>
<cntinfo>
<cntorgp>
<cntorg>Pictometry International Corp.</cntorg>
<cntper>Thom S. Salter</cntper>
</cntorgp>
<cntpos>Director, Photogrammetric Production</cntpos>
<cntaddr>
<addrtype>mailing and physical address</addrtype>
<address>25 Methodist Hill Drive</address>
<city>Rochester</city>
<state>New York</state>
<postal>14623</postal>
<country>USA</country>
</cntaddr>
<cntvoice>585-486-0093</cntvoice>
<cntfax>585-486-0098</cntfax>
<hours>0900-1700 EST</hours>
</cntinfo>
</proccont>
<procsv>Applanix POSPac v7.1</procsv>
</procstep>
<procstep>
<procdesc>AeroTriangulation: Imagery was aerotriangulated using Inpho's Match-AT software.</procdesc>
<procdate>Unknown</procdate>
<proccont>
<cntinfo>
<cntorgp>
<cntorg>Pictometry International Corp.</cntorg>
<cntper>Thom S. Salter</cntper>
</cntorgp>
<cntpos>Director, Photogrammetric Production</cntpos>
<cntaddr>
<addrtype>mailing and physical address</addrtype>
<address>25 Methodist Hill Drive</address>
<city>Rochester</city>
<state>New York</state>
<postal>14623</postal>
<country>USA</country>
</cntaddr>
<cntvoice>585-486-0093</cntvoice>
<cntfax>585-486-0098</cntfax>
<hours>0900-1700 EST</hours>
</cntinfo>
</proccont>
<procsv>MatchAT v6.1</procsv>
</procstep>
<procstep>
<procdesc>Rectification: Ortho-rectification was performed using Inpho's OrthoMaster software. A LiDAR based DEM was used as the rectification surface.</procdesc>
<procdate>Unknown</procdate>
<proccont>
<cntinfo>
<cntorgp>
<cntorg>Pictometry International Corp.</cntorg>
<cntper>Thom S. Salter</cntper>
</cntorgp>
<cntpos>Director, Photogrammetric Production</cntpos>
<cntaddr>
<addrtype>mailing and physical address</addrtype>
<address>25 Methodist Hill Drive</address>
<city>Rochester</city>
<state>New York</state>
<postal>14623</postal>
<country>USA</country>
</cntaddr>
<cntvoice>585-486-0093</cntvoice>
<cntfax>585-486-0098</cntfax>
<hours>0900-1700 EST</hours>
</cntinfo>
</proccont>
<procsv>OrthoMaster v6.1</procsv>
</procstep>
<procstep>
<procdesc>Mosaicing: Mosaiking was performed using Inpho's OrthoVista software and SeamEditor was employed for manual corrections.</procdesc>
<procdate>Unknown</procdate>
<proccont>
<cntinfo>
<cntorgp>
<cntorg>Pictometry International Corp.</cntorg>
<cntper>Thom S. Salter</cntper>
</cntorgp>
<cntpos>Director, Photogrammetric Production</cntpos>
<cntaddr>
<addrtype>mailing and physical address</addrtype>
<address>25 Methodist Hill Drive</address>
<city>Rochester</city>
<state>New York</state>
<postal>14623</postal>
<country>USA</country>
</cntaddr>
<cntvoice>585-486-0093</cntvoice>
<cntfax>585-486-0098</cntfax>
<hours>0900-1700 EST</hours>
</cntinfo>
</proccont>
<procsv>OrthoVista v6.1</procsv>
</procstep>
</lineage>
<cloud>0</cloud>
</dataqual>
<spdoinfo>
<direct>Vector</direct>
<ptvctinf>
<sdtsterm>
<sdtstype>G-polygon</sdtstype>
<ptvctcnt>532</ptvctcnt>
</sdtsterm>
</ptvctinf>
</spdoinfo>
<spref>
<horizsys>
<planar>
<planci>
<plance Sync="TRUE">coordinate pair</plance>
<plandu Sync="TRUE">US Survey Feet</plandu>
<coordrep>
<absres>0.5</absres>
<ordres>0.5</ordres>
</coordrep>
</planci>
</planar>
<geodetic>
<horizdn Sync="TRUE">NAD83 (National Spatial Reference System 2011)</horizdn>
<ellips Sync="TRUE">GRS 1980</ellips>
<semiaxis Sync="TRUE">6378137</semiaxis>
<denflat Sync="TRUE">298.257222101</denflat>
</geodetic>
</horizsys>
<vertdef>
<altsys>
<altdatum>North American Vertical Datum of 1988</altdatum>
<altunits>feet</altunits>
<altres>1000.0</altres>
<altenc>Implicit coordinate</altenc>
</altsys>
</vertdef>
</spref>
<eainfo>
<detailed>
<enttyp>
<enttypl>FLPINE18_Delivery_Area</enttypl>
<enttypd>FL Pinellas Accuplus Flight Tiling Scheme</enttypd>
<enttypds>Pictometry International Corp.</enttypds>
</enttyp>
<attr>
<attrlabl>FID</attrlabl>
<attrdef>Internal feature number.</attrdef>
<attrdefs>ESRI</attrdefs>
<attrdomv>
<udom>Sequential unique whole numbers that are automatically generated.</udom>
</attrdomv>
</attr>
<attr>
<attrlabl>Shape</attrlabl>
<attrdef>Feature geometry.</attrdef>
<attrdefs>ESRI</attrdefs>
<attrdomv>
<udom>Coordinates defining the features.</udom>
</attrdomv>
</attr>
<attr>
<attrlabl>TILELABEL</attrlabl>
<attrdef>Tile Label</attrdef>
<attrdefs>Pictometry International Corp.</attrdefs>
<attrdomv>
<udom>Coordinates defining the features.</udom>
</attrdomv>
</attr>
</detailed>
</eainfo>
<distinfo>
<distrib>
<cntinfo>
<cntorgp>
<cntorg>Pictometry International Corp.</cntorg>
<cntper>Thom S. Salter</cntper>
</cntorgp>
<cntpos>Director, Photogrammetric Production</cntpos>
<cntaddr>
<addrtype>mailing and physical address</addrtype>
<address>25 Methodist Hill Drive</address>
<city>Rochester</city>
<state>New York</state>
<postal>14623</postal>
<country>USA</country>
</cntaddr>
<cntvoice>585-486-0093</cntvoice>
<cntfax>585-486-0098</cntfax>
<hours>0900-1700 EST</hours>
</cntinfo>
</distrib>
<resdesc>Downloadable Data</resdesc>
<distliab>Distribution of this dataset is constrained by the existing license agreement between the Pictometry International Corp. and FL Pinellas.</distliab>
<stdorder>
<digform>
<digtinfo>
<formname>TIFF</formname>
<transize>0.097</transize>
</digtinfo>
<digtopt>
<offoptn>
<offmedia>CD-ROM</offmedia>
<reccap>
<recden>1</recden>
<recdenu>percent</recdenu>
</reccap>
<recfmt>N/A</recfmt>
</offoptn>
</digtopt>
</digform>
<fees>$TBD</fees>
</stdorder>
</distinfo>
<metainfo>
<metd>20180604</metd>
<metc>
<cntinfo>
<cntorgp>
<cntorg>Pictometry International Corp.</cntorg>
<cntper>Emma Witherwax</cntper>
</cntorgp>
<cntpos>Aerial Triangulation Technician</cntpos>
<cntaddr>
<addrtype>mailing and physical address</addrtype>
<address>25 Methodist Hill Drive</address>
<city>Rochester</city>
<state>New York</state>
<postal>14623</postal>
<country>USA</country>
</cntaddr>
<cntvoice>585-486-0093</cntvoice>
<cntfax>585-486-0098</cntfax>
<hours>0900-1700 EST</hours>
</cntinfo>
</metc>
<metstdn>FGDC Content Standards for Digital Geospatial Metadata</metstdn>
<metstdv>FGDC-STD-001-1998</metstdv>
<mettc>local time</mettc>
<metextns>
<onlink>http://www.esri.com/metadata/esriprof80.html</onlink>
<metprof>ESRI Metadata Profile</metprof>
</metextns>
</metainfo>
<Esri>
<ModDate>20200129</ModDate>
<ModTime>17012200</ModTime>
<DataProperties>
<itemProps>
<itemName Sync="TRUE">Aerials2018</itemName>
<nativeExtBox>
<westBL Sync="TRUE">374998.876319</westBL>
<eastBL Sync="TRUE">474998.876319</eastBL>
<southBL Sync="TRUE">1175001.905743</southBL>
<northBL Sync="TRUE">1400001.905743</northBL>
<exTypeCode Sync="TRUE">1</exTypeCode>
</nativeExtBox>
</itemProps>
<coordRef>
<type Sync="TRUE">Projected</type>
<geogcsn Sync="TRUE">GCS_North_American_1983_HARN</geogcsn>
<csUnits Sync="TRUE">Linear Unit: Foot_US (0.304801)</csUnits>
<projcsn Sync="TRUE">NAD_1983_HARN_StatePlane_Florida_West_FIPS_0902_Feet</projcsn>
<peXml Sync="TRUE">&lt;ProjectedCoordinateSystem xsi:type='typens:ProjectedCoordinateSystem' xmlns:xsi='http://www.w3.org/2001/XMLSchema-instance' xmlns:xs='http://www.w3.org/2001/XMLSchema' xmlns:typens='http://www.esri.com/schemas/ArcGIS/10.6'&gt;&lt;WKT&gt;PROJCS[&amp;quot;NAD_1983_HARN_StatePlane_Florida_West_FIPS_0902_Feet&amp;quot;,GEOGCS[&amp;quot;GCS_North_American_1983_HARN&amp;quot;,DATUM[&amp;quot;D_North_American_1983_HARN&amp;quot;,SPHEROID[&amp;quot;GRS_1980&amp;quot;,6378137.0,298.257222101]],PRIMEM[&amp;quot;Greenwich&amp;quot;,0.0],UNIT[&amp;quot;Degree&amp;quot;,0.0174532925199433]],PROJECTION[&amp;quot;Transverse_Mercator&amp;quot;],PARAMETER[&amp;quot;False_Easting&amp;quot;,656166.6666666665],PARAMETER[&amp;quot;False_Northing&amp;quot;,0.0],PARAMETER[&amp;quot;Central_Meridian&amp;quot;,-82.0],PARAMETER[&amp;quot;Scale_Factor&amp;quot;,0.9999411764705882],PARAMETER[&amp;quot;Latitude_Of_Origin&amp;quot;,24.33333333333333],UNIT[&amp;quot;Foot_US&amp;quot;,0.3048006096012192],AUTHORITY[&amp;quot;EPSG&amp;quot;,2882]]&lt;/WKT&gt;&lt;XOrigin&gt;-17791300&lt;/XOrigin&gt;&lt;YOrigin&gt;-41645400&lt;/YOrigin&gt;&lt;XYScale&gt;137249422.94257641&lt;/XYScale&gt;&lt;ZOrigin&gt;-100000&lt;/ZOrigin&gt;&lt;ZScale&gt;10000&lt;/ZScale&gt;&lt;MOrigin&gt;-100000&lt;/MOrigin&gt;&lt;MScale&gt;10000&lt;/MScale&gt;&lt;XYTolerance&gt;0.0032808333333333331&lt;/XYTolerance&gt;&lt;ZTolerance&gt;0.001&lt;/ZTolerance&gt;&lt;MTolerance&gt;0.001&lt;/MTolerance&gt;&lt;HighPrecision&gt;true&lt;/HighPrecision&gt;&lt;WKID&gt;2882&lt;/WKID&gt;&lt;LatestWKID&gt;2882&lt;/LatestWKID&gt;&lt;/ProjectedCoordinateSystem&gt;</peXml>
</coordRef>
<RasterProperties>
<General>
<PixelDepth Sync="TRUE">8</PixelDepth>
<HasColormap Sync="TRUE">FALSE</HasColormap>
<CompressionType Sync="TRUE">None</CompressionType>
<NumBands Sync="TRUE">3</NumBands>
<Format Sync="TRUE">AMD</Format>
<HasPyramids Sync="TRUE">TRUE</HasPyramids>
<SourceType Sync="TRUE">continuous</SourceType>
<PixelType Sync="TRUE">unsigned integer</PixelType>
<NoDataValue Sync="TRUE">
</NoDataValue>
</General>
<Properties>
<MaxImageHeight Sync="TRUE">4100</MaxImageHeight>
<MaxImageWidth Sync="TRUE">15000</MaxImageWidth>
<MaxRecordCount Sync="TRUE">1000</MaxRecordCount>
<MaxDownloadImageCount Sync="TRUE">20</MaxDownloadImageCount>
<MaxDownloadSizeLimit Sync="TRUE">2048</MaxDownloadSizeLimit>
<MaxMosaicImageCount Sync="TRUE">20</MaxMosaicImageCount>
<DefaultCompressionQuality Sync="TRUE">75</DefaultCompressionQuality>
<DefaultCompressionTolerance Sync="TRUE">0.01</DefaultCompressionTolerance>
<BlendWidth Sync="TRUE">10</BlendWidth>
<ViewpointSpacingX Sync="TRUE">600</ViewpointSpacingX>
<ViewpointSpacingY Sync="TRUE">300</ViewpointSpacingY>
<AllowedItemMetadata Sync="TRUE">Basic</AllowedItemMetadata>
<DefaultResamplingMethod Sync="TRUE">1</DefaultResamplingMethod>
<AllowedMosaicMethods Sync="TRUE">NorthWest,Center,LockRaster,ByAttribute,Nadir,Viewpoint,Seamline,None</AllowedMosaicMethods>
<AllowedCompressions Sync="TRUE">None,JPEG,LZ77,LERC</AllowedCompressions>
<AllowedMensurationCapabilities Sync="TRUE">Basic</AllowedMensurationCapabilities>
<AvailableMensurationCapabilities Sync="TRUE">None,Basic,Base-Top Height,Top-Top Shadow Height,Base-Top Shadow Height,3D</AvailableMensurationCapabilities>
<ClipToBoundary Sync="TRUE">-1</ClipToBoundary>
<FootprintMayContainNoData Sync="TRUE">-1</FootprintMayContainNoData>
<CellSizeTolerance Sync="TRUE">0.8</CellSizeTolerance>
<MinimumPixelContribution Sync="TRUE">1</MinimumPixelContribution>
<AvailableMosaicMethods Sync="TRUE">NorthWest,Center,LockRaster,ByAttribute,Nadir,Viewpoint,Seamline,None</AvailableMosaicMethods>
<AvailableCompressionMethods Sync="TRUE">None,JPEG,LZ77,LERC</AvailableCompressionMethods>
<AvailableItemMetadataLevels Sync="TRUE">None,Basic,Full</AvailableItemMetadataLevels>
<BandDefinitionKeyword Sync="TRUE">NONE</BandDefinitionKeyword>
<AllowedFields Sync="TRUE">Name,MinPS,MaxPS,LowPS,HighPS,Tag,GroupName,ProductName,CenterX,CenterY,ZOrder,Shape_Length,Shape_Area,Thumbnail</AllowedFields>
<MaxCellSize Sync="TRUE">28800</MaxCellSize>
<LowCellSize Sync="TRUE">0.5</LowCellSize>
<HighCellSize Sync="TRUE">576</HighCellSize>
<ApplyColorCorrection Sync="TRUE">0</ApplyColorCorrection>
</Properties>
<Functions Sync="TRUE">
<Function Description="Performs on-the-fly mosaic on a raster catalog." Name="Mosaic Function">
</Function>
</Functions>
</RasterProperties>
</DataProperties>
<SyncDate>20200129</SyncDate>
<SyncTime>17012200</SyncTime>
</Esri>
<mdDateSt Sync="TRUE">20200129</mdDateSt>
<dataIdInfo>
<envirDesc Sync="TRUE"> Version 6.2 (Build 9200) ; Esri ArcGIS 10.6.1.9328</envirDesc>
<dataLang>
<languageCode Sync="TRUE" value="eng">
</languageCode>
<countryCode Sync="TRUE" value="USA">
</countryCode>
</dataLang>
<idCitation>
<resTitle Sync="TRUE">Aerials2018</resTitle>
<presForm>
<PresFormCd Sync="TRUE" value="005">
</PresFormCd>
</presForm>
</idCitation>
<spatRpType>
<SpatRepTypCd Sync="TRUE" value="002">
</SpatRepTypCd>
</spatRpType>
<dataExt>
<geoEle>
<GeoBndBox esriExtentType="search">
<exTypeCode Sync="TRUE">1</exTypeCode>
<westBL Sync="TRUE">-82.872780</westBL>
<eastBL Sync="TRUE">-82.559196</eastBL>
<northBL Sync="TRUE">28.183951</northBL>
<southBL Sync="TRUE">27.563503</southBL>
</GeoBndBox>
</geoEle>
</dataExt>
<idAbs>The dataset consists of tiled orthogonal imagery produced from nadir images captured by Pictometry International. Automatic aerial triangulation (AAT) was performed. The triangulated frames were rectified to a LiDAR derived DEM. Mosaicing was performed using an automatic seaming algorithm and manually edited to eliminate seams through elevated features where possible.</idAbs>
<searchKeys>
<keyword>Pinellas</keyword>
<keyword>FL</keyword>
<keyword>Digital Orthophotography</keyword>
</searchKeys>
<idPurp>Orthogonal image mosaic to support the needs of FL Pinellas. Other uses expected.</idPurp>
<idCredit/>
<resConst>
<Consts>
<useLimit/>
</Consts>
</resConst>
</dataIdInfo>
<mdLang>
<languageCode Sync="TRUE" value="eng">
</languageCode>
<countryCode Sync="TRUE" value="USA">
</countryCode>
</mdLang>
<refSysInfo>
<RefSystem>
<refSysID>
<identCode Sync="TRUE" code="2882">
</identCode>
<idCodeSpace Sync="TRUE">EPSG</idCodeSpace>
<idVersion Sync="TRUE">8.9.3(9.0.0)</idVersion>
</refSysID>
</RefSystem>
</refSysInfo>
<spatRepInfo>
<Georect>
<cellGeo>
<CellGeoCd Sync="TRUE" value="002">
</CellGeoCd>
</cellGeo>
<numDims Sync="TRUE">2</numDims>
<tranParaAv Sync="TRUE">1</tranParaAv>
<chkPtAv Sync="TRUE">0</chkPtAv>
<cornerPts>
<pos Sync="TRUE">374998.876319 1175001.905743</pos>
</cornerPts>
<cornerPts>
<pos Sync="TRUE">374998.876319 1400001.905743</pos>
</cornerPts>
<cornerPts>
<pos Sync="TRUE">474998.876319 1400001.905743</pos>
</cornerPts>
<cornerPts>
<pos Sync="TRUE">474998.876319 1175001.905743</pos>
</cornerPts>
<centerPt>
<pos Sync="TRUE">424998.876319 1287501.905743</pos>
</centerPt>
<axisDimension type="002">
<dimSize Sync="TRUE">200000</dimSize>
<dimResol>
<value Sync="TRUE" uom="ftUS">0.500000</value>
</dimResol>
</axisDimension>
<axisDimension type="001">
<dimSize Sync="TRUE">450000</dimSize>
<dimResol>
<value Sync="TRUE" uom="ftUS">0.500000</value>
</dimResol>
</axisDimension>
<ptInPixel>
<PixOrientCd Sync="TRUE" value="001">
</PixOrientCd>
</ptInPixel>
</Georect>
</spatRepInfo>
<contInfo>
<ImgDesc>
<contentTyp>
<ContentTypCd Sync="TRUE" value="001">
</ContentTypCd>
</contentTyp>
<covDim>
<Band>
<dimDescrp Sync="TRUE">Band_1</dimDescrp>
<maxVal Sync="TRUE">255.000000</maxVal>
<minVal Sync="TRUE">0.000000</minVal>
<bitsPerVal Sync="TRUE">8</bitsPerVal>
<valUnit>
<UOM type="length">
</UOM>
</valUnit>
</Band>
<Band>
<dimDescrp Sync="TRUE">Band_2</dimDescrp>
<maxVal Sync="TRUE">255.000000</maxVal>
<minVal Sync="TRUE">0.000000</minVal>
<bitsPerVal Sync="TRUE">8</bitsPerVal>
<valUnit>
<UOM type="length">
</UOM>
</valUnit>
</Band>
<Band>
<dimDescrp Sync="TRUE">Band_3</dimDescrp>
<maxVal Sync="TRUE">255.000000</maxVal>
<minVal Sync="TRUE">0.000000</minVal>
<bitsPerVal Sync="TRUE">8</bitsPerVal>
<valUnit>
<UOM type="length">
</UOM>
</valUnit>
</Band>
</covDim>
</ImgDesc>
</contInfo>
</metadata>
