{ "currentVersion": 10.81, "cimVersion": "2.6.0", "serviceDescription": "
Provides a consumer representation of parcel information that can be used with infrastructure and parcel information. The layers in the map provide context for multiple workflows, such as editing data or producing web maps. Includes structures, roads, major facilities and landmarks, water features, parcels, addresses and boundaries. This basemap uses design elements found in the General Purpose basemap but adds additional content at larger scales.<\/SPAN><\/P><\/DIV><\/DIV><\/DIV>",
"mapName": "BaseMapDamageAssessment",
"description": " Provides a consumer representation of parcel information that can be used with infrastructure and parcel information. The layers in the map provide context for multiple workflows, such as editing data or producing web maps. Includes structures, roads, major facilities and landmarks, water features, parcels, addresses and boundaries. This basemap uses design elements found in the General Purpose basemap but adds additional content at larger scales.<\/SPAN><\/P><\/DIV><\/DIV><\/DIV>",
"copyrightText": "",
"supportsDynamicLayers": true,
"layers": [
{
"id": 0,
"name": "EMS (Fire) Grid",
"parentLayerId": -1,
"defaultVisibility": true,
"subLayerIds": null,
"minScale": 0,
"maxScale": 0,
"type": "Feature Layer",
"geometryType": "esriGeometryPolygon",
"supportsDynamicLegends": true
},
{
"id": 1,
"name": "Layer_288k",
"parentLayerId": -1,
"defaultVisibility": true,
"subLayerIds": [
2,
10,
17
],
"minScale": 0,
"maxScale": 18055.954822,
"type": "Group Layer",
"supportsDynamicLegends": false
},
{
"id": 2,
"name": "Transportation",
"parentLayerId": 1,
"defaultVisibility": true,
"subLayerIds": [
3,
7
],
"minScale": 0,
"maxScale": 0,
"type": "Group Layer",
"supportsDynamicLegends": false
},
{
"id": 3,
"name": "Roads",
"parentLayerId": 2,
"defaultVisibility": true,
"subLayerIds": [
4,
5,
6
],
"minScale": 0,
"maxScale": 0,
"type": "Group Layer",
"supportsDynamicLegends": false
},
{
"id": 4,
"name": "Roads (750-300k)",
"parentLayerId": 3,
"defaultVisibility": true,
"subLayerIds": null,
"minScale": 750000,
"maxScale": 300001,
"type": "Feature Layer",
"geometryType": "esriGeometryPolyline",
"supportsDynamicLegends": true
},
{
"id": 5,
"name": "Roads (300-150k)",
"parentLayerId": 3,
"defaultVisibility": true,
"subLayerIds": null,
"minScale": 300000,
"maxScale": 150001,
"type": "Feature Layer",
"geometryType": "esriGeometryPolyline",
"supportsDynamicLegends": true
},
{
"id": 6,
"name": "Roads (150-50k)",
"parentLayerId": 3,
"defaultVisibility": true,
"subLayerIds": null,
"minScale": 150000,
"maxScale": 50001,
"type": "Feature Layer",
"geometryType": "esriGeometryPolyline",
"supportsDynamicLegends": true
},
{
"id": 7,
"name": "Railroads",
"parentLayerId": 2,
"defaultVisibility": true,
"subLayerIds": [
8,
9
],
"minScale": 0,
"maxScale": 0,
"type": "Group Layer",
"supportsDynamicLegends": false
},
{
"id": 8,
"name": "Railroads (150-100k)",
"parentLayerId": 7,
"defaultVisibility": true,
"subLayerIds": null,
"minScale": 150000,
"maxScale": 100001,
"type": "Feature Layer",
"geometryType": "esriGeometryPolyline",
"supportsDynamicLegends": true
},
{
"id": 9,
"name": "Railroads (100-25k)",
"parentLayerId": 7,
"defaultVisibility": true,
"subLayerIds": null,
"minScale": 100000,
"maxScale": 25001,
"type": "Feature Layer",
"geometryType": "esriGeometryPolyline",
"supportsDynamicLegends": true
},
{
"id": 10,
"name": "Hydrology",
"parentLayerId": 1,
"defaultVisibility": true,
"subLayerIds": [
11,
15
],
"minScale": 0,
"maxScale": 0,
"type": "Group Layer",
"supportsDynamicLegends": false
},
{
"id": 11,
"name": "Water Bodies",
"parentLayerId": 10,
"defaultVisibility": true,
"subLayerIds": [
12,
13,
14
],
"minScale": 0,
"maxScale": 0,
"type": "Group Layer",
"supportsDynamicLegends": false
},
{
"id": 12,
"name": "Water Bodies (750-300k)",
"parentLayerId": 11,
"defaultVisibility": true,
"subLayerIds": null,
"minScale": 750000,
"maxScale": 300001,
"type": "Feature Layer",
"geometryType": "esriGeometryPolygon",
"supportsDynamicLegends": true
},
{
"id": 13,
"name": "Water Bodies (300-25k)",
"parentLayerId": 11,
"defaultVisibility": true,
"subLayerIds": null,
"minScale": 300000,
"maxScale": 25001,
"type": "Feature Layer",
"geometryType": "esriGeometryPolygon",
"supportsDynamicLegends": true
},
{
"id": 14,
"name": "Water Bodies (25k-0)",
"parentLayerId": 11,
"defaultVisibility": true,
"subLayerIds": null,
"minScale": 25000,
"maxScale": 0,
"type": "Feature Layer",
"geometryType": "esriGeometryPolygon",
"supportsDynamicLegends": true
},
{
"id": 15,
"name": "Coastal Water",
"parentLayerId": 10,
"defaultVisibility": true,
"subLayerIds": [
16
],
"minScale": 0,
"maxScale": 0,
"type": "Group Layer",
"supportsDynamicLegends": false
},
{
"id": 16,
"name": "Coastal Water (750k-0)",
"parentLayerId": 15,
"defaultVisibility": true,
"subLayerIds": null,
"minScale": 750000,
"maxScale": 0,
"type": "Feature Layer",
"geometryType": "esriGeometryPolygon",
"supportsDynamicLegends": true
},
{
"id": 17,
"name": "Landmarks",
"parentLayerId": 1,
"defaultVisibility": true,
"subLayerIds": [
18,
22,
25
],
"minScale": 0,
"maxScale": 0,
"type": "Group Layer",
"supportsDynamicLegends": false
},
{
"id": 18,
"name": "Airports",
"parentLayerId": 17,
"defaultVisibility": true,
"subLayerIds": [
19,
20,
21
],
"minScale": 0,
"maxScale": 0,
"type": "Group Layer",
"supportsDynamicLegends": false
},
{
"id": 19,
"name": "Airports (300-100k)",
"parentLayerId": 18,
"defaultVisibility": true,
"subLayerIds": null,
"minScale": 300000,
"maxScale": 100001,
"type": "Feature Layer",
"geometryType": "esriGeometryPolygon",
"supportsDynamicLegends": true
},
{
"id": 20,
"name": "Airports (100-25k)",
"parentLayerId": 18,
"defaultVisibility": true,
"subLayerIds": null,
"minScale": 100000,
"maxScale": 25001,
"type": "Feature Layer",
"geometryType": "esriGeometryPolygon",
"supportsDynamicLegends": true
},
{
"id": 21,
"name": "Airports (25-2.5k)",
"parentLayerId": 18,
"defaultVisibility": true,
"subLayerIds": null,
"minScale": 25000,
"maxScale": 2501,
"type": "Feature Layer",
"geometryType": "esriGeometryPolygon",
"supportsDynamicLegends": true
},
{
"id": 22,
"name": "Landmarks",
"parentLayerId": 17,
"defaultVisibility": true,
"subLayerIds": [
23,
24
],
"minScale": 0,
"maxScale": 0,
"type": "Group Layer",
"supportsDynamicLegends": false
},
{
"id": 23,
"name": "Landmarks (100-50k)",
"parentLayerId": 22,
"defaultVisibility": true,
"subLayerIds": null,
"minScale": 100000,
"maxScale": 50001,
"type": "Feature Layer",
"geometryType": "esriGeometryPolygon",
"supportsDynamicLegends": true
},
{
"id": 24,
"name": "Landmarks (50k-0)",
"parentLayerId": 22,
"defaultVisibility": true,
"subLayerIds": null,
"minScale": 50000,
"maxScale": 0,
"type": "Feature Layer",
"geometryType": "esriGeometryPolygon",
"supportsDynamicLegends": true
},
{
"id": 25,
"name": "Parks",
"parentLayerId": 17,
"defaultVisibility": true,
"subLayerIds": [
26,
27,
28,
29,
30
],
"minScale": 0,
"maxScale": 0,
"type": "Group Layer",
"supportsDynamicLegends": false
},
{
"id": 26,
"name": "Parks (60-5m)",
"parentLayerId": 25,
"defaultVisibility": true,
"subLayerIds": null,
"minScale": 60000000,
"maxScale": 5000001,
"type": "Feature Layer",
"geometryType": "esriGeometryPolygon",
"supportsDynamicLegends": true
},
{
"id": 27,
"name": "Parks (5-1.5m)",
"parentLayerId": 25,
"defaultVisibility": true,
"subLayerIds": null,
"minScale": 5000000,
"maxScale": 1500001,
"type": "Feature Layer",
"geometryType": "esriGeometryPolygon",
"supportsDynamicLegends": true
},
{
"id": 28,
"name": "Parks (1.5m-100k)",
"parentLayerId": 25,
"defaultVisibility": true,
"subLayerIds": null,
"minScale": 1500000,
"maxScale": 100001,
"type": "Feature Layer",
"geometryType": "esriGeometryPolygon",
"supportsDynamicLegends": true
},
{
"id": 29,
"name": "Parks (100-2.5k)",
"parentLayerId": 25,
"defaultVisibility": true,
"subLayerIds": null,
"minScale": 100000,
"maxScale": 2501,
"type": "Feature Layer",
"geometryType": "esriGeometryPolygon",
"supportsDynamicLegends": true
},
{
"id": 30,
"name": "Parks (2.5k-0)",
"parentLayerId": 25,
"defaultVisibility": true,
"subLayerIds": null,
"minScale": 2500,
"maxScale": 0,
"type": "Feature Layer",
"geometryType": "esriGeometryPolygon",
"supportsDynamicLegends": true
},
{
"id": 31,
"name": "Municipality",
"parentLayerId": -1,
"defaultVisibility": true,
"subLayerIds": null,
"minScale": 0,
"maxScale": 0,
"type": "Feature Layer",
"geometryType": "esriGeometryPolygon",
"supportsDynamicLegends": true
},
{
"id": 32,
"name": "CacheBuildInfo",
"parentLayerId": -1,
"defaultVisibility": true,
"subLayerIds": null,
"minScale": 0,
"maxScale": 0,
"type": "Feature Layer",
"geometryType": "esriGeometryPoint",
"supportsDynamicLegends": true
},
{
"id": 33,
"name": "2023 Aerial",
"parentLayerId": -1,
"defaultVisibility": true,
"subLayerIds": null,
"minScale": 0,
"maxScale": 0,
"type": "Raster Layer",
"supportsDynamicLegends": true
},
{
"id": 34,
"name": "States/Provinces",
"parentLayerId": -1,
"defaultVisibility": true,
"subLayerIds": [
35
],
"minScale": 0,
"maxScale": 72225,
"type": "Group Layer",
"supportsDynamicLegends": false
},
{
"id": 35,
"name": "States/Provinces (750k-0)",
"parentLayerId": 34,
"defaultVisibility": true,
"subLayerIds": null,
"minScale": 750000,
"maxScale": 0,
"type": "Feature Layer",
"geometryType": "esriGeometryPolygon",
"supportsDynamicLegends": true
},
{
"id": 36,
"name": "world30",
"parentLayerId": -1,
"defaultVisibility": true,
"subLayerIds": null,
"minScale": 0,
"maxScale": 36113,
"type": "Feature Layer",
"geometryType": "esriGeometryPolygon",
"supportsDynamicLegends": true
}
],
"tables": [],
"spatialReference": {
"wkid": 102100,
"latestWkid": 3857,
"xyTolerance": 0.001,
"zTolerance": 0.001,
"mTolerance": 0.001,
"falseX": -20037700,
"falseY": -30241100,
"xyUnits": 10000,
"falseZ": -100000,
"zUnits": 10000,
"falseM": -100000,
"mUnits": 10000
},
"singleFusedMapCache": true,
"tileInfo": {
"rows": 256,
"cols": 256,
"dpi": 96,
"format": "MIXED",
"compressionQuality": 75,
"origin": {
"x": -2.0037508342787E7,
"y": 2.0037508342787E7
},
"spatialReference": {
"wkid": 102100,
"latestWkid": 3857,
"xyTolerance": 0.001,
"zTolerance": 0.001,
"mTolerance": 0.001,
"falseX": -20037700,
"falseY": -30241100,
"xyUnits": 10000,
"falseZ": -100000,
"zUnits": 10000,
"falseM": -100000,
"mUnits": 10000
},
"lods": [
{
"level": 0,
"resolution": 305.74811314055756,
"scale": 1155581.108577
},
{
"level": 1,
"resolution": 152.87405657041106,
"scale": 577790.554289
},
{
"level": 2,
"resolution": 76.43702828507324,
"scale": 288895.277144
},
{
"level": 3,
"resolution": 38.21851414253662,
"scale": 144447.638572
},
{
"level": 4,
"resolution": 19.10925707126831,
"scale": 72223.819286
},
{
"level": 5,
"resolution": 9.554628535634155,
"scale": 36111.909643
},
{
"level": 6,
"resolution": 4.77731426794937,
"scale": 18055.954822
},
{
"level": 7,
"resolution": 2.388657133974685,
"scale": 9027.977411
},
{
"level": 8,
"resolution": 1.1943285668550503,
"scale": 4513.988705
},
{
"level": 9,
"resolution": 0.5971642835598172,
"scale": 2256.994353
},
{
"level": 10,
"resolution": 0.29858214164761665,
"scale": 1128.497176
},
{
"level": 11,
"resolution": 0.14929107082380833,
"scale": 564.248588
},
{
"level": 12,
"resolution": 0.07464553541190416,
"scale": 282.124294
}
]
},
"initialExtent": {
"xmin": -9248534.171634013,
"ymin": 3198851.4775392944,
"xmax": -9167597.002003027,
"ymax": 3272477.987591485,
"spatialReference": {
"wkid": 102100,
"latestWkid": 3857,
"xyTolerance": 0.001,
"zTolerance": 0.001,
"mTolerance": 0.001,
"falseX": -20037700,
"falseY": -30241100,
"xyUnits": 10000,
"falseZ": -100000,
"zUnits": 10000,
"falseM": -100000,
"mUnits": 10000
}
},
"fullExtent": {
"xmin": -9225355.202681124,
"ymin": 3199233.0591513673,
"xmax": -9190470.524045479,
"ymax": 3272185.028525639,
"spatialReference": {
"wkid": 102100,
"latestWkid": 3857,
"xyTolerance": 0.001,
"zTolerance": 0.001,
"mTolerance": 0.001,
"falseX": -20037700,
"falseY": -30241100,
"xyUnits": 10000,
"falseZ": -100000,
"zUnits": 10000,
"falseM": -100000,
"mUnits": 10000
}
},
"minScale": 1155581.108577,
"maxScale": 282.124294,
"units": "esriMeters",
"supportedImageFormatTypes": "PNG32,PNG24,PNG,JPG,DIB,TIFF,EMF,PS,PDF,GIF,SVG,SVGZ,BMP",
"documentInfo": {
"Title": "BaseMapDamageAssessment",
"Author": "",
"Comments": " Provides a consumer representation of parcel information that can be used with infrastructure and parcel information. The layers in the map provide context for multiple workflows, such as editing data or producing web maps. Includes structures, roads, major facilities and landmarks, water features, parcels, addresses and boundaries. This basemap uses design elements found in the General Purpose basemap but adds additional content at larger scales.<\/SPAN><\/P><\/DIV><\/DIV><\/DIV>",
"Subject": "Use of this PARCEL MAP is subject to terms of use at: http://www.pcpao.gov/Terms_of_Use.html.",
"Category": "",
"AntialiasingMode": "Fast",
"TextAntialiasingMode": "Force",
"Keywords": "Damage Assessment"
},
"supportsQueryDomains": true,
"capabilities": "Map,Query,Data",
"supportedQueryFormats": "JSON, geoJSON, PBF",
"exportTilesAllowed": false,
"referenceScale": 0.0,
"datumTransformations": [
{
"geoTransforms": [
{
"wkid": 108363,
"latestWkid": 108363,
"transformForward": true,
"name": "WGS_1984_(ITRF08)_To_NAD_1983_2011"
}
]
},
{
"geoTransforms": [
{
"wkid": 108363,
"latestWkid": 108363,
"transformForward": false,
"name": "WGS_1984_(ITRF08)_To_NAD_1983_2011"
}
]
},
{
"geoTransforms": [
{
"wkid": 108355,
"latestWkid": 108355,
"transformForward": true,
"name": "NAD_1983_HARN_To_NAD_1983_2011"
}
]
},
{
"geoTransforms": [
{
"wkid": 108355,
"latestWkid": 108355,
"transformForward": false,
"name": "NAD_1983_HARN_To_NAD_1983_2011"
}
]
},
{
"geoTransforms": [
{
"wkid": 1900,
"latestWkid": 1900,
"transformForward": true,
"name": "NAD_1983_HARN_To_WGS_1984_2"
}
]
}
],
"supportsDatumTransformation": true,
"archivingInfo": {"supportsHistoricMoment": false},
"supportsClipping": true,
"supportsSpatialFilter": true,
"supportsQueryDataElements": true,
"maxRecordCount": 15000,
"maxImageHeight": 4096,
"maxImageWidth": 4096,
"supportedExtensions": ""
}