{ "currentVersion": 10.81, "cimVersion": "2.6.0", "serviceDescription": "
Provides a consumer representation of parcel information that can be used with infrastructure and parcel information. The layers in the map provide context for multiple workflows, such as editing data or producing web maps. Includes structures, roads, major facilities and landmarks, water features, parcels, addresses and boundaries. This basemap uses design elements found in the General Purpose basemap but adds additional content at larger scales.<\/SPAN><\/P><\/DIV><\/DIV><\/DIV>",
"mapName": "SalesCurrentYear",
"description": " Provides a consumer representation of parcel information that can be used with infrastructure and parcel information. The layers in the map provide context for multiple workflows, such as editing data or producing web maps. Includes structures, roads, major facilities and landmarks, water features, parcels, addresses and boundaries. This basemap uses design elements found in the General Purpose basemap but adds additional content at larger scales.<\/SPAN><\/P><\/DIV><\/DIV><\/DIV>",
"copyrightText": "",
"supportsDynamicLayers": true,
"layers": [
{
"id": 0,
"name": "CurrentYear",
"parentLayerId": -1,
"defaultVisibility": true,
"subLayerIds": null,
"minScale": 0,
"maxScale": 0,
"type": "Feature Layer",
"geometryType": "esriGeometryPoint",
"supportsDynamicLegends": true
}
],
"tables": [],
"spatialReference": {
"wkid": 102100,
"latestWkid": 3857,
"xyTolerance": 0.001,
"zTolerance": 0.001,
"mTolerance": 0.001,
"falseX": -20037700,
"falseY": -30241100,
"xyUnits": 10000,
"falseZ": -100000,
"zUnits": 10000,
"falseM": -100000,
"mUnits": 10000
},
"singleFusedMapCache": true,
"tileInfo": {
"rows": 256,
"cols": 256,
"dpi": 96,
"format": "MIXED",
"compressionQuality": 75,
"origin": {
"x": -2.0037508342787E7,
"y": 2.0037508342787E7
},
"spatialReference": {
"wkid": 102100,
"latestWkid": 3857,
"xyTolerance": 0.001,
"zTolerance": 0.001,
"mTolerance": 0.001,
"falseX": -20037700,
"falseY": -30241100,
"xyUnits": 10000,
"falseZ": -100000,
"zUnits": 10000,
"falseM": -100000,
"mUnits": 10000
},
"lods": [
{
"level": 0,
"resolution": 305.74811314055756,
"scale": 1155581.108577
},
{
"level": 1,
"resolution": 152.87405657041106,
"scale": 577790.554289
},
{
"level": 2,
"resolution": 76.43702828507324,
"scale": 288895.277144
},
{
"level": 3,
"resolution": 38.21851414253662,
"scale": 144447.638572
},
{
"level": 4,
"resolution": 19.10925707126831,
"scale": 72223.819286
},
{
"level": 5,
"resolution": 9.554628535634155,
"scale": 36111.909643
},
{
"level": 6,
"resolution": 4.77731426794937,
"scale": 18055.954822
},
{
"level": 7,
"resolution": 2.388657133974685,
"scale": 9027.977411
},
{
"level": 8,
"resolution": 1.1943285668550503,
"scale": 4513.988705
},
{
"level": 9,
"resolution": 0.5971642835598172,
"scale": 2256.994353
},
{
"level": 10,
"resolution": 0.29858214164761665,
"scale": 1128.497176
},
{
"level": 11,
"resolution": 0.14929107082380833,
"scale": 564.248588
},
{
"level": 12,
"resolution": 0.07464553541190416,
"scale": 282.124294
}
]
},
"initialExtent": {
"xmin": -9221917.520127345,
"ymin": 3227962.929850001,
"xmax": -9219982.358852763,
"ymax": 3231123.391838164,
"spatialReference": {
"wkid": 102100,
"latestWkid": 3857,
"xyTolerance": 0.001,
"zTolerance": 0.001,
"mTolerance": 0.001,
"falseX": -20037700,
"falseY": -30241100,
"xyUnits": 10000,
"falseZ": -100000,
"zUnits": 10000,
"falseM": -100000,
"mUnits": 10000
}
},
"fullExtent": {
"xmin": -9225355.202681124,
"ymin": 3199233.059151368,
"xmax": -9190470.524045479,
"ymax": 3272185.028525639,
"spatialReference": {
"wkid": 102100,
"latestWkid": 3857,
"xyTolerance": 0.001,
"zTolerance": 0.001,
"mTolerance": 0.001,
"falseX": -20037700,
"falseY": -30241100,
"xyUnits": 10000,
"falseZ": -100000,
"zUnits": 10000,
"falseM": -100000,
"mUnits": 10000
}
},
"minScale": 1155581.108577,
"maxScale": 282.124294,
"units": "esriMeters",
"supportedImageFormatTypes": "PNG32,PNG24,PNG,JPG,DIB,TIFF,EMF,PS,PDF,GIF,SVG,SVGZ,BMP",
"documentInfo": {
"Title": "SalesCurrentYear",
"Author": "",
"Comments": " Provides a consumer representation of parcel information that can be used with infrastructure and parcel information. The layers in the map provide context for multiple workflows, such as editing data or producing web maps. Includes structures, roads, major facilities and landmarks, water features, parcels, addresses and boundaries. This basemap uses design elements found in the General Purpose basemap but adds additional content at larger scales.<\/SPAN><\/P><\/DIV><\/DIV><\/DIV>",
"Subject": "http://www.pcpao.gov",
"Category": "",
"AntialiasingMode": "Fast",
"TextAntialiasingMode": "Force",
"Keywords": "SalesCurrentYear"
},
"supportsQueryDomains": true,
"capabilities": "Map,Query,Data",
"supportedQueryFormats": "JSON, geoJSON, PBF",
"exportTilesAllowed": false,
"referenceScale": 0.0,
"datumTransformations": [
{
"geoTransforms": [
{
"wkid": 1900,
"latestWkid": 1900,
"transformForward": true,
"name": "NAD_1983_HARN_To_WGS_1984_2"
}
]
},
{
"geoTransforms": [
{
"wkid": 1900,
"latestWkid": 1900,
"transformForward": false,
"name": "NAD_1983_HARN_To_WGS_1984_2"
}
]
}
],
"supportsDatumTransformation": true,
"archivingInfo": {"supportsHistoricMoment": false},
"supportsClipping": true,
"supportsSpatialFilter": true,
"supportsQueryDataElements": true,
"maxRecordCount": 15000,
"maxImageHeight": 4096,
"maxImageWidth": 4096,
"supportedExtensions": ""
}