View In:
ArcGIS JavaScript
ArcGIS Online Map Viewer
ArcGIS Earth
ArcMap
View Footprint In:
ArcGIS Online Map Viewer
Service Description: An orthoimage is remotely sensed image data in which displacement of features in the image caused by terrain relief and sensor orientation have been mathematically removed. Orthoimagery combines the image characteristics of a photograph with the geometric qualities of a map. This task consists of two components, digital image acquisition and digital orthophoto production, covering the Southwest Florida Water Management District in Florida. The Southwest Florida Water Management District (SWFWMD) project area is comprised of approximately 10,589 square miles. Aerial imagery was collected in panchromatic, Red, Green, Blue and Near Infrared which yielded a natural color and false color infrared version of the completed digital orthophotography. Imagery was collected at an approximate altitude of 23,600 feet above mean terrain. The ADS40 digital camera system used in this project incorporates the latest in sensor technology, optics, electronics, data transfer, and storage. The ADS40 imagery is generated from seven parallel sensor lines in the focal plane of a single lens system, three panchromatic (forward, nadir, backward), red, green, and blue lines placed next to each other, and one infrared. Each panchromatic channel consists of two lines, each with 12,000 pixels, staggered (shifted with respect to each other) by 0.5 pixels. The viewing angles and characteristics of the sensor are as follows -
Focal length 62.5mm Pixel size 6.5mm PAN 2 arrays 12,000 pixels each
R,G,B and NIR,R,G 12,000 pixels Forward to nadir stereo angle 28.3 degrees
Backward to nadir stereo angle -14.1 degrees
Near infrared to nadir stereo angle -2.05 degrees Dynamic Range of CCD - 12-bits for all arrays
All ADS40 camera systems used for this project were equipped with the narrow angle infrared configuration that facilitates production of a natural color and false color infrared composite.
For this dataset, the natural color and color infrared orthoimages were produced at 1.0-meter pixel resolution. The accuracy has been designed to meet NMAS for 1:12,000 maps. Each digital orthorectified quarter quad provides imagery for a nominal 3.75 by 3.75 minute area corresponding to the USGS quarter quad boundaries. The projected coordinate system is UTM with a NAD83 datum. The naming convention is based on the state of Florida DOQQ naming convention.
Deliverables include -
24-Bit (8-bit) Natural Color in GeoTIFF format
24-Bit (8-bit) False Color Infrared in GeoTIFF format
48-Bit (16-bit) Natural Color in GeoTIFF format
48-Bit (16-bit) False Color Infrared in GeoTIFF format
Name: Aerials/Aerials2004
Description: An orthoimage is remotely sensed image data in which displacement of features in the image caused by terrain relief and sensor orientation have been mathematically removed. Orthoimagery combines the image characteristics of a photograph with the geometric qualities of a map. This task consists of two components, digital image acquisition and digital orthophoto production, covering the Southwest Florida Water Management District in Florida. The Southwest Florida Water Management District (SWFWMD) project area is comprised of approximately 10,589 square miles. Aerial imagery was collected in panchromatic, Red, Green, Blue and Near Infrared which yielded a natural color and false color infrared version of the completed digital orthophotography. Imagery was collected at an approximate altitude of 23,600 feet above mean terrain. The ADS40 digital camera system used in this project incorporates the latest in sensor technology, optics, electronics, data transfer, and storage. The ADS40 imagery is generated from seven parallel sensor lines in the focal plane of a single lens system, three panchromatic (forward, nadir, backward), red, green, and blue lines placed next to each other, and one infrared. Each panchromatic channel consists of two lines, each with 12,000 pixels, staggered (shifted with respect to each other) by 0.5 pixels. The viewing angles and characteristics of the sensor are as follows -
Focal length 62.5mm Pixel size 6.5mm PAN 2 arrays 12,000 pixels each
R,G,B and NIR,R,G 12,000 pixels Forward to nadir stereo angle 28.3 degrees
Backward to nadir stereo angle -14.1 degrees
Near infrared to nadir stereo angle -2.05 degrees Dynamic Range of CCD - 12-bits for all arrays
All ADS40 camera systems used for this project were equipped with the narrow angle infrared configuration that facilitates production of a natural color and false color infrared composite.
For this dataset, the natural color and color infrared orthoimages were produced at 1.0-meter pixel resolution. The accuracy has been designed to meet NMAS for 1:12,000 maps. Each digital orthorectified quarter quad provides imagery for a nominal 3.75 by 3.75 minute area corresponding to the USGS quarter quad boundaries. The projected coordinate system is UTM with a NAD83 datum. The naming convention is based on the state of Florida DOQQ naming convention.
Deliverables include -
24-Bit (8-bit) Natural Color in GeoTIFF format
24-Bit (8-bit) False Color Infrared in GeoTIFF format
48-Bit (16-bit) Natural Color in GeoTIFF format
48-Bit (16-bit) False Color Infrared in GeoTIFF format
Single Fused Map Cache: true
Tile Info:
- Height: 256
- Width: 256
- DPI: 96
-
Levels of Detail: 20
-
Level ID: 0
[ Start Tile, End Tile ]
- Resolution: 156543.03392800014
- Scale: 5.91657527591555E8
-
Level ID: 1
[ Start Tile, End Tile ]
- Resolution: 78271.51696399994
- Scale: 2.95828763795777E8
-
Level ID: 2
[ Start Tile, End Tile ]
- Resolution: 39135.75848200009
- Scale: 1.47914381897889E8
-
Level ID: 3
[ Start Tile, End Tile ]
- Resolution: 19567.87924099992
- Scale: 7.3957190948944E7
-
Level ID: 4
[ Start Tile, End Tile ]
- Resolution: 9783.93962049996
- Scale: 3.6978595474472E7
-
Level ID: 5
[ Start Tile, End Tile ]
- Resolution: 4891.96981024998
- Scale: 1.8489297737236E7
- Format: Mixed
- Compression Quality: 75.0
- LERC Error: NaN
- Origin: X: -2.0037508342787E7
Y: 2.0037508342787E7
- Spatial Reference: 102100
(3857)
LatestVCSWkid(0)
Extent:
XMin: -9226177.371760022
YMin: 3193579.090080495
XMax: -9183384.328408537
YMax: 3280884.4056003257
Spatial Reference: 102100
(3857)
LatestVCSWkid(0)
Initial Extent:
XMin: -9226177.371760022
YMin: 3193579.090080495
XMax: -9183384.328408537
YMax: 3280884.4056003257
Spatial Reference: 102100
(3857)
LatestVCSWkid(0)
Full Extent:
XMin: -9226177.371760022
YMin: 3193579.090080495
XMax: -9183384.328408537
YMax: 3280884.4056003257
Spatial Reference: 102100
(3857)
LatestVCSWkid(0)
Pixel Size X: 0.9999999898399801
Pixel Size Y: 0.9999999898399802
Band Count: 3
Pixel Type: U8
RasterFunction Infos: {"rasterFunctionInfos": [{
"name": "None",
"description": "",
"help": ""
}]}
Mensuration Capabilities: None
Has Histograms: true
Has Colormap: false
Has Multi Dimensions : false
Rendering Rule:
Min Scale: 5.91657527591555E8
Max Scale: 1128.497176
Copyright Text:
Service Data Type: esriImageServiceDataTypeRGB
Min Values: 0, 0, 0
Max Values: 255, 255, 255
Mean Values: 95.77670466476181, 105.2411832802518, 98.77526338297749
Standard Deviation Values: 42.164614376407364, 36.00084881186436, 31.94092580648125
Object ID Field: OBJECTID
Fields:
-
OBJECTID
(
type: esriFieldTypeOID, alias: OBJECTID
)
-
Shape
(
type: esriFieldTypeGeometry, alias: Shape
)
-
Name
(
type: esriFieldTypeString, alias: Name, length: 50
)
-
MinPS
(
type: esriFieldTypeDouble, alias: MinPS
)
-
MaxPS
(
type: esriFieldTypeDouble, alias: MaxPS
)
-
LowPS
(
type: esriFieldTypeDouble, alias: LowPS
)
-
HighPS
(
type: esriFieldTypeDouble, alias: HighPS
)
-
Category
(
type: esriFieldTypeInteger, alias: Category
, Coded Values:
[0: Unknown]
, [1: Primary]
, [2: Overview]
, ...5 more...
)
-
Tag
(
type: esriFieldTypeString, alias: Tag, length: 20
)
-
GroupName
(
type: esriFieldTypeString, alias: GroupName, length: 50
)
-
ProductName
(
type: esriFieldTypeString, alias: ProductName, length: 50
)
-
CenterX
(
type: esriFieldTypeDouble, alias: CenterX
)
-
CenterY
(
type: esriFieldTypeDouble, alias: CenterY
)
-
ZOrder
(
type: esriFieldTypeInteger, alias: ZOrder
)
-
Shape_Length
(
type: esriFieldTypeDouble, alias: Shape_Length
)
-
Shape_Area
(
type: esriFieldTypeDouble, alias: Shape_Area
)
Default Mosaic Method: Northwest
Allowed Mosaic Methods: NorthWest,Center,LockRaster,ByAttribute,Nadir,Viewpoint,Seamline,None
SortField:
SortValue: null
Mosaic Operator: First
Default Compression Quality: 75
Default Resampling Method: Bilinear
Max Record Count: 1000
Max Image Height: 4100
Max Image Width: 15000
Max Download Image Count: 20
Max Mosaic Image Count: 20
Allow Raster Function: true
Allow Copy: null
Allow Analysis: null
Allow Compute TiePoints: false
Supports Statistics: true
Supports Advanced Queries: true
Use StandardizedQueries: true
Raster Type Infos:
Name: Raster Dataset
Description: Supports all ArcGIS Raster Datasets
Help:
Has Raster Attribute Table: false
Edit Fields Info: null
Ownership Based AccessControl For Rasters: null
Child Resources:
Info
Histograms
Key Properties
Legend
Raster Function Infos
Supported Operations:
Export Image
Query
Identify
Compute Histograms
Compute Statistics Histograms
Get Samples
Compute Class Statistics
Query Boundary
Compute Pixel Location
Compute Angles
Validate
Project