View In:
ArcGIS JavaScript
ArcGIS Online Map Viewer
ArcGIS Earth
ArcMap
View Footprint In:
ArcGIS Online Map Viewer
Service Description: This dataset is a single orthophoto from a collection of GeoTIFF
format natural color orthophotos covering the Southwest Florida Water
Management District.
An orthophoto is remotely sensed image data in which displacement of
features in the image caused by terrain relief and sensor
orientation have been mathematically removed. Orthophotography
combines the image characteristics of a photograph with the
geometric qualities of a map. Each orthophoto provides imagery for a
5,000 foot by 5,000 foot cell area on the ground. The
source imagery was obtained in January and February of 2005 and used to produce
orthophotos with a one foot ground sample distance (GSD). Imagery was acquired
at 0.85 foot GSD resolution. Flight height
maintained during mission was 8,650 feet AGL. The imagery was captured
at 12-bit radiometric resolution and converted to 8-bit radiometric
resolution during post processing. The imagery was captured with 20%
sidelap between all adjacent flight lines. The SWFWMD project area
was divided into 10 flight blocks due to neccessary base station and
flight line length requirements. The imagery was obtained and processed
by all digital means beginning with data acquisition using an ADS40
digital sensor. The orthophotos are available in GeoTIFF form.
The projected coordinate system is State Plane Florida West (Zone 902), NAD 83 HARN, GRS 80, Units Feet.
Name: Aerials/Aerials2005
Description: This dataset is a single orthophoto from a collection of GeoTIFF
format natural color orthophotos covering the Southwest Florida Water
Management District.
An orthophoto is remotely sensed image data in which displacement of
features in the image caused by terrain relief and sensor
orientation have been mathematically removed. Orthophotography
combines the image characteristics of a photograph with the
geometric qualities of a map. Each orthophoto provides imagery for a
5,000 foot by 5,000 foot cell area on the ground. The
source imagery was obtained in January and February of 2005 and used to produce
orthophotos with a one foot ground sample distance (GSD). Imagery was acquired
at 0.85 foot GSD resolution. Flight height
maintained during mission was 8,650 feet AGL. The imagery was captured
at 12-bit radiometric resolution and converted to 8-bit radiometric
resolution during post processing. The imagery was captured with 20%
sidelap between all adjacent flight lines. The SWFWMD project area
was divided into 10 flight blocks due to neccessary base station and
flight line length requirements. The imagery was obtained and processed
by all digital means beginning with data acquisition using an ADS40
digital sensor. The orthophotos are available in GeoTIFF form.
The projected coordinate system is State Plane Florida West (Zone 902), NAD 83 HARN, GRS 80, Units Feet.
Single Fused Map Cache: true
Tile Info:
- Height: 256
- Width: 256
- DPI: 96
-
Levels of Detail: 20
-
Level ID: 1
[ Start Tile, End Tile ]
- Resolution: 78271.5169639999
- Scale: 2.95828763795777E8
-
Level ID: 2
[ Start Tile, End Tile ]
- Resolution: 39135.7584820001
- Scale: 1.47914381897889E8
-
Level ID: 3
[ Start Tile, End Tile ]
- Resolution: 19567.8792409999
- Scale: 7.3957190948944E7
-
Level ID: 4
[ Start Tile, End Tile ]
- Resolution: 9783.93962049996
- Scale: 3.6978595474472E7
-
Level ID: 5
[ Start Tile, End Tile ]
- Resolution: 4891.96981024998
- Scale: 1.8489297737236E7
- Format: MIXED
- Compression Quality: 75.0
- LERC Error: NaN
- Origin: X: -2.0037508342787E7
Y: 2.0037508342787E7
- Spatial Reference: 102100
(3857)
LatestVCSWkid(0)
Extent:
XMin: -9223760.27727026
YMin: 3194040.838389524
XMax: -9188584.565590622
YMax: 3274051.4144989
Spatial Reference: 102100
(3857)
LatestVCSWkid(0)
Initial Extent:
XMin: -9223760.27727026
YMin: 3194040.838389524
XMax: -9188584.565590622
YMax: 3274051.4144989
Spatial Reference: 102100
(3857)
LatestVCSWkid(0)
Full Extent:
XMin: -9223760.27727026
YMin: 3194040.838389524
XMax: -9188584.565590622
YMax: 3274051.4144989
Spatial Reference: 102100
(3857)
LatestVCSWkid(0)
Time Info:
Start Time Field: MinPS
End Time Field: MaxPS
Time Extent:
[2001/01/01 00:00:00 UTC, 4860/01/01 00:00:00 UTC]
Time Reference:
N/A
Pixel Size X: 0.3048006095923483
Pixel Size Y: 0.3048006095923485
Band Count: 3
Pixel Type: U8
RasterFunction Infos: {"rasterFunctionInfos": [{
"name": "None",
"description": "",
"help": ""
}]}
Mensuration Capabilities: None
Has Histograms: false
Has Colormap: false
Has Multi Dimensions : false
Rendering Rule:
Min Scale: 5.91657527591555E8
Max Scale: 1128.497176
Copyright Text:
Service Data Type: esriImageServiceDataTypeRGB
Min Values: N/A
Max Values: N/A
Mean Values: N/A
Standard Deviation Values: N/A
Object ID Field: OBJECTID
Fields:
-
OBJECTID
(
type: esriFieldTypeOID, alias: OBJECTID
)
-
Shape
(
type: esriFieldTypeGeometry, alias: Shape
)
-
Name
(
type: esriFieldTypeString, alias: Name, length: 50
)
-
MinPS
(
type: esriFieldTypeDouble, alias: MinPS
)
-
MaxPS
(
type: esriFieldTypeDouble, alias: MaxPS
)
-
LowPS
(
type: esriFieldTypeDouble, alias: LowPS
)
-
HighPS
(
type: esriFieldTypeDouble, alias: HighPS
)
-
Category
(
type: esriFieldTypeInteger, alias: Category
, Coded Values:
[0: Unknown]
, [1: Primary]
, [2: Overview]
, ...5 more...
)
-
Tag
(
type: esriFieldTypeString, alias: Tag, length: 20
)
-
GroupName
(
type: esriFieldTypeString, alias: GroupName, length: 50
)
-
ProductName
(
type: esriFieldTypeString, alias: ProductName, length: 50
)
-
CenterX
(
type: esriFieldTypeDouble, alias: CenterX
)
-
CenterY
(
type: esriFieldTypeDouble, alias: CenterY
)
-
ZOrder
(
type: esriFieldTypeInteger, alias: ZOrder
)
-
Shape_Length
(
type: esriFieldTypeDouble, alias: Shape_Length
)
-
Shape_Area
(
type: esriFieldTypeDouble, alias: Shape_Area
)
-
DateTime
(
type: esriFieldTypeDate, alias: DateTime, length: 8
)
Default Mosaic Method: Northwest
Allowed Mosaic Methods: NorthWest,Center,LockRaster,ByAttribute,Nadir,Viewpoint,Seamline,None
SortField:
SortValue: null
Mosaic Operator: First
Default Compression Quality: 75
Default Resampling Method: Bilinear
Max Record Count: 1000
Max Image Height: 4100
Max Image Width: 15000
Max Download Image Count: 20
Max Mosaic Image Count: 20
Allow Raster Function: true
Allow Copy: null
Allow Analysis: null
Allow Compute TiePoints: false
Supports Statistics: true
Supports Advanced Queries: true
Use StandardizedQueries: true
Raster Type Infos:
Name: Raster Dataset
Description: Supports all ArcGIS Raster Datasets
Help:
Has Raster Attribute Table: false
Edit Fields Info: null
Ownership Based AccessControl For Rasters: null
Child Resources:
Info
Key Properties
Legend
Raster Function Infos
Supported Operations:
Export Image
Query
Identify
Compute Histograms
Compute Statistics Histograms
Get Samples
Compute Class Statistics
Query Boundary
Compute Pixel Location
Compute Angles
Validate
Project